BEGIN:VCALENDAR
VERSION:2.0
PRODID:-//Περιφερειακή Ενότητα Καστοριάς - ECPv6.15.20//NONSGML v1.0//EN
CALSCALE:GREGORIAN
METHOD:PUBLISH
X-ORIGINAL-URL:https://kastoria.pdm.gov.gr
X-WR-CALDESC:Events for Περιφερειακή Ενότητα Καστοριάς
REFRESH-INTERVAL;VALUE=DURATION:PT1H
X-Robots-Tag:noindex
X-PUBLISHED-TTL:PT1H
BEGIN:VTIMEZONE
TZID:Europe/Athens
BEGIN:DAYLIGHT
TZOFFSETFROM:+0200
TZOFFSETTO:+0300
TZNAME:EEST
DTSTART:20240331T010000
END:DAYLIGHT
BEGIN:STANDARD
TZOFFSETFROM:+0300
TZOFFSETTO:+0200
TZNAME:EET
DTSTART:20241027T010000
END:STANDARD
BEGIN:DAYLIGHT
TZOFFSETFROM:+0200
TZOFFSETTO:+0300
TZNAME:EEST
DTSTART:20250330T010000
END:DAYLIGHT
BEGIN:STANDARD
TZOFFSETFROM:+0300
TZOFFSETTO:+0200
TZNAME:EET
DTSTART:20251026T010000
END:STANDARD
BEGIN:DAYLIGHT
TZOFFSETFROM:+0200
TZOFFSETTO:+0300
TZNAME:EEST
DTSTART:20260329T010000
END:DAYLIGHT
BEGIN:STANDARD
TZOFFSETFROM:+0300
TZOFFSETTO:+0200
TZNAME:EET
DTSTART:20261025T010000
END:STANDARD
END:VTIMEZONE
BEGIN:VEVENT
DTSTART;TZID=Europe/Athens:20250911T110000
DTEND;TZID=Europe/Athens:20250914T143000
DTSTAMP:20260425T173840
CREATED:20250818T085728Z
LAST-MODIFIED:20250911T052855Z
UID:38048-1757588400-1757860200@kastoria.pdm.gov.gr
SUMMARY:11-14 Σεπτεμβρίου| Εκδηλώσεις στην Κορομηλιά
DESCRIPTION:Ο Ποντιακός Πολιτιστικός Σύλλογος Κορομηλιάς «Τραπεζούντα» διοργανώνει και φέτος τις καθιερωμένες πολιτιστικές εκδηλώσεις του\, τιμώντας την Πολιούχο Εκκλησία της Τοπικής Κοινότητας\, «Ανύψωσις του Τιμίου Σταυρού»\, που γιορτάζει στις 14 Σεπτεμβρίου. Πρόκειται για μια πρωτοβουλία που στοχεύει στη διατήρηση\, ανάδειξη και ζωντάνεμα της ποντιακής παράδοσης\, φέρνοντας κοντά τα μέλη του Συλλόγου και τους κατοίκους του χωριού σε ένα κοινό γιορταστικό πνεύμα. \n \nΤο πρόγραμμα των εκδηλώσεων έχει ως εξής: \n• Πέμπτη 11 Σεπτεμβρίου: Καθαρισμός και καλλωπισμός της περιοχής με πρωτοβουλία των γυναικών του χωριού\, σε συνεργασία με τα μέλη του Συλλόγου\, προετοιμάζοντας το χωριό για τις εορταστικές εκδηλώσεις. \n• Παρασκευή 12 Σεπτεμβρίου: Παραδοσιακή μουσικοχορευτική εκδήλωση με παρουσίαση χορευτικών συγκροτημάτων του Συλλόγου και άλλων ομάδων του Νομού\, ζωντανεύοντας τις ποντιακές παραδόσεις μέσα από μουσική και χορό. \n• Σάββατο 13 Σεπτεμβρίου: Δεύτερη μουσικοχορευτική εκδήλωση\, όπου οι επισκέπτες θα έχουν την ευκαιρία να απολαύσουν πλούσιες παραστάσεις και να γνωρίσουν τον πλούτο της ποντιακής πολιτισμικής κληρονομιάς. \n• Κυριακή 14 Σεπτεμβρίου: Η κορύφωση των εκδηλώσεων με εκκλησιασμό\, παρασκευή και προσφορά παραδοσιακών ποντιακών φαγητών και χορευτική παράσταση από τα συγκροτήματα του Συλλόγου\, σε μια ατμόσφαιρα γιορτής και κοινότητας. \nΗ Περιφερειακή Ενότητα Καστοριάς στηρίζει ενεργά τη δράση\, αναγνωρίζοντας τη σημασία της πολιτιστικής κληρονομιάς και των τοπικών πρωτοβουλιών που ενώνουν την κοινωνία και αναδεικνύουν την πλούσια πολιτιστική ταυτότητα της περιοχής.
URL:https://kastoria.pdm.gov.gr/event/11-14-septemvriou-ekdiloseis-stin-koromilia/
LOCATION:Κορομηλιά Καστοριάς\, Greece
ATTACH;FMTTYPE=image/jpeg:https://kastoria.pdm.gov.gr/wp-content/uploads/2025/09/Trapezounda.jpg
END:VEVENT
END:VCALENDAR