BEGIN:VCALENDAR
VERSION:2.0
PRODID:-//Περιφερειακή Ενότητα Καστοριάς - ECPv6.15.20//NONSGML v1.0//EN
CALSCALE:GREGORIAN
METHOD:PUBLISH
X-WR-CALNAME:Περιφερειακή Ενότητα Καστοριάς
X-ORIGINAL-URL:https://kastoria.pdm.gov.gr
X-WR-CALDESC:Events for Περιφερειακή Ενότητα Καστοριάς
REFRESH-INTERVAL;VALUE=DURATION:PT1H
X-Robots-Tag:noindex
X-PUBLISHED-TTL:PT1H
BEGIN:VTIMEZONE
TZID:Europe/Athens
BEGIN:DAYLIGHT
TZOFFSETFROM:+0200
TZOFFSETTO:+0300
TZNAME:EEST
DTSTART:20240331T010000
END:DAYLIGHT
BEGIN:STANDARD
TZOFFSETFROM:+0300
TZOFFSETTO:+0200
TZNAME:EET
DTSTART:20241027T010000
END:STANDARD
BEGIN:DAYLIGHT
TZOFFSETFROM:+0200
TZOFFSETTO:+0300
TZNAME:EEST
DTSTART:20250330T010000
END:DAYLIGHT
BEGIN:STANDARD
TZOFFSETFROM:+0300
TZOFFSETTO:+0200
TZNAME:EET
DTSTART:20251026T010000
END:STANDARD
BEGIN:DAYLIGHT
TZOFFSETFROM:+0200
TZOFFSETTO:+0300
TZNAME:EEST
DTSTART:20260329T010000
END:DAYLIGHT
BEGIN:STANDARD
TZOFFSETFROM:+0300
TZOFFSETTO:+0200
TZNAME:EET
DTSTART:20261025T010000
END:STANDARD
END:VTIMEZONE
BEGIN:VEVENT
DTSTART;TZID=Europe/Athens:20250813T203000
DTEND;TZID=Europe/Athens:20250815T233000
DTSTAMP:20260425T184618
CREATED:20250626T083352Z
LAST-MODIFIED:20250626T083501Z
UID:37115-1755117000-1755300600@kastoria.pdm.gov.gr
SUMMARY:13-15 Αυγούστου| Τριήμερο Πολιτιστικών Εκδηλώσεων στην Οινόη Καστοριάς!
DESCRIPTION:Ο Επιμορφωτικός Εξωραϊστικός Λαογραφικός Σύλλογος Οινόης σας προσκαλεί και φέτος στις καθιερωμένες παραδοσιακές εκδηλώσεις του! \n\n13\, 14 & 15 Αυγούστου 2025\nΑύλειος χώρος Γυμνασίου Οινόης\n\n Τρία βράδια με:\n– Ζωντανή παραδοσιακή ορχήστρα– Τοπικά και ποντιακά χορευτικά συγκροτήματα- \nΕλάτε να γιορτάσουμε όλοι μαζί όπως κάθε χρόνο – με κέφι\, μουσική και παράδοση!
URL:https://kastoria.pdm.gov.gr/event/13-15-avgoustou-triimero-politistikon-ekdiloseon-stin-oinoi-kastorias/
LOCATION:Αύλειος χώρος Γυμνασίου Οινόης\, Οινόη Καστοριάς\, Greece
END:VEVENT
BEGIN:VEVENT
DTSTART;TZID=Europe/Athens:20250813T203000
DTEND;TZID=Europe/Athens:20250815T233000
DTSTAMP:20260425T184618
CREATED:20250723T095544Z
LAST-MODIFIED:20250730T082116Z
UID:37653-1755117000-1755300600@kastoria.pdm.gov.gr
SUMMARY:13–15 Αυγούστου 2025|  Εκδηλώσεις στην Πεντάβρυσο!
DESCRIPTION:Τριήμερες Πολιτιστικές Εκδηλώσεις Πενταβρύσου | 13–15 Αυγούστου 2025 Ο ΠΟΝΤΟΣ ΖΕΙ – Η ΠΑΡΑΔΟΣΗ ΣΥΝΕΧΙΖΕΤΑΙ! \nΟ Πολιτιστικός Σύλλογος Πενταβρύσου «Ο Πόντος»\, πιστός στο ετήσιο ραντεβού του με την παράδοση\, σας προσκαλεί στις καθιερωμένες τριήμερες εκδηλώσεις προς τιμήν της Παναγίας\, από 13 έως 15 Αυγούστου\, στον αύλειο χώρο του Νηπιαγωγείου Πενταβρύσου. \n\n Τρεις μέρες γεμάτες Πόντο\, μουσική\, χορό\, πολιτισμό & συναίσθημα!\n Ζωντανή παραδοσιακή μουσικήΠοντιακά χορευτικά τμήματαΕικαστικές και πολιτιστικές δράσειςΦιλοξενία\, χαμόγελα και τοπικές γεύσεις!\n\n– Σας περιμένουμε όλους – ντόπιους και επισκέπτες – να γιορτάσουμε μαζί με σεβασμό και υπερηφάνεια!
URL:https://kastoria.pdm.gov.gr/event/13-15-avgoustou-2025-triimeres-politistikes-ekdiloseis-pentavrysou/
LOCATION:Πεντάβρυσος
ATTACH;FMTTYPE=image/jpeg:https://kastoria.pdm.gov.gr/wp-content/uploads/2025/07/PENTABRISOS.jpg
END:VEVENT
BEGIN:VEVENT
DTSTART;TZID=Europe/Athens:20250814T200000
DTEND;TZID=Europe/Athens:20250815T233000
DTSTAMP:20260425T184618
CREATED:20250606T120024Z
LAST-MODIFIED:20250618T075432Z
UID:36699-1755201600-1755300600@kastoria.pdm.gov.gr
SUMMARY:14 - 15 Αυγούστου| Διήμερες Πολιτιστικές Εκδηλώσεις στην Ποριά!
DESCRIPTION:Ο Πολιτιστικός Σύλλογος Ποριάς σας προσκαλεί στις διήμερες πολιτιστικές εκδηλώσεις  στην Ποριά με αφορμή την εορτή της Παναγίας! \nΑνακαλύψτε τη μαγεία της ζωντανής μουσικής και την πλούσια τοπική παράδοση\, στις 14 & 15 Αυγούστου 2025\, στον αύλειο χώρο του Νηπιαγωγείου Ποριάς. \nΜια γιορτή που αγκαλιάζει τον πολιτισμό\, την παράδοση και τον σεβασμό στα ήθη και έθιμά μας! \nΜικροί και μεγάλοι\, ελάτε όλοι μαζί να ζήσουμε και να διατηρήσουμε την πολιτιστική μας κληρονομιά!
URL:https://kastoria.pdm.gov.gr/event/14-15-avgoustou-diimeres-politistikes-ekdiloseis-stin-poria/
LOCATION:Νηπιαγωγείο Ποριάς\, Ποριά\, Καστοριάς\, Greece
END:VEVENT
BEGIN:VEVENT
DTSTART;TZID=Europe/Athens:20250814T203000
DTEND;TZID=Europe/Athens:20250815T233000
DTSTAMP:20260425T184618
CREATED:20250805T063905Z
LAST-MODIFIED:20250805T064421Z
UID:37907-1755203400-1755300600@kastoria.pdm.gov.gr
SUMMARY:14 – 15 Αυγούστου| Διήμερες Πολιτιστικές Εκδηλώσεις στην Διποταμία!
DESCRIPTION:Ο Πολιτιστικός Σύλλογος Διποταμίας ¨Ο Προφήτης Ηλίας ¨ σας προσκαλεί στις διήμερες πολιτιστικές εκδηλώσεις  στην Διποταμία με αφορμή την εορτή της Παναγίας! \nΑνακαλύψτε τη μαγεία της ζωντανής μουσικής και την πλούσια τοπική παράδοση\, στις 14 & 15 Αυγούστου 2025\, στην πλατεία του χωριού. \nΜια γιορτή που αγκαλιάζει τον πολιτισμό\, την παράδοση και τον σεβασμό στα ήθη και έθιμά μας! \nΜικροί και μεγάλοι\, ελάτε όλοι μαζί να ζήσουμε και να διατηρήσουμε την πολιτιστική μας κληρονομιά!
URL:https://kastoria.pdm.gov.gr/event/14-15-avgoustou-diimeres-politistikes-ekdiloseis-stin-dipotamia/
LOCATION:Πλατεία Διποταμίας\, Καστοριά\, Greece
END:VEVENT
BEGIN:VEVENT
DTSTART;TZID=Europe/Athens:20250815T080000
DTEND;TZID=Europe/Athens:20250816T233000
DTSTAMP:20260425T184618
CREATED:20250625T055546Z
LAST-MODIFIED:20250625T055546Z
UID:37078-1755244800-1755387000@kastoria.pdm.gov.gr
SUMMARY:15-16 Αυγούστου| Διήμερο Παραδοσιακό Πανηγύρι στο Τοιχιό Καστοριάς!
DESCRIPTION:Ο Πολιτιστικός-Λαογραφικός Σύλλογος Γυναικών Τοιχιού\, συνεχίζοντας την πολυετή του προσφορά στον πολιτισμό\, σας προσκαλεί και φέτος στο διήμερο πανηγύρι με αφορμή τη γιορτή της Κοιμήσεως της Θεοτόκου. \n Χώρος Πολιτιστικών Εκδηλώσεων – Τοιχιό \nΔύο βραδιές γεμάτες:-Γνήσια λαϊκή και παραδοσιακή μουσική-Συμμετοχή χορευτικών ομάδων από την περιοχή-Παραδοσιακά κεράσματα & αυθεντική πανηγυρική ατμόσφαιρα \nΕλάτε να γιορτάσουμε μαζί με σεβασμό στην παράδοση\, μελωδίες του τόπου μας και άρωμα γιορτής!
URL:https://kastoria.pdm.gov.gr/event/15-16-avgoustou-diimero-paradosiako-panigyri-sto-toichio-kastorias/
LOCATION:Χώρος Πολιτιστικών Εκδηλώσεων – Τοιχιό\, Τοιχιό Καστοριάς\, Greece
END:VEVENT
END:VCALENDAR