BEGIN:VCALENDAR
VERSION:2.0
PRODID:-//Περιφερειακή Ενότητα Καστοριάς - ECPv6.15.20//NONSGML v1.0//EN
CALSCALE:GREGORIAN
METHOD:PUBLISH
X-ORIGINAL-URL:https://kastoria.pdm.gov.gr
X-WR-CALDESC:Events for Περιφερειακή Ενότητα Καστοριάς
REFRESH-INTERVAL;VALUE=DURATION:PT1H
X-Robots-Tag:noindex
X-PUBLISHED-TTL:PT1H
BEGIN:VTIMEZONE
TZID:Europe/Athens
BEGIN:DAYLIGHT
TZOFFSETFROM:+0200
TZOFFSETTO:+0300
TZNAME:EEST
DTSTART:20240331T010000
END:DAYLIGHT
BEGIN:STANDARD
TZOFFSETFROM:+0300
TZOFFSETTO:+0200
TZNAME:EET
DTSTART:20241027T010000
END:STANDARD
BEGIN:DAYLIGHT
TZOFFSETFROM:+0200
TZOFFSETTO:+0300
TZNAME:EEST
DTSTART:20250330T010000
END:DAYLIGHT
BEGIN:STANDARD
TZOFFSETFROM:+0300
TZOFFSETTO:+0200
TZNAME:EET
DTSTART:20251026T010000
END:STANDARD
BEGIN:DAYLIGHT
TZOFFSETFROM:+0200
TZOFFSETTO:+0300
TZNAME:EEST
DTSTART:20260329T010000
END:DAYLIGHT
BEGIN:STANDARD
TZOFFSETFROM:+0300
TZOFFSETTO:+0200
TZNAME:EET
DTSTART:20261025T010000
END:STANDARD
END:VTIMEZONE
BEGIN:VEVENT
DTSTART;TZID=Europe/Athens:20250727T080000
DTEND;TZID=Europe/Athens:20250727T233000
DTSTAMP:20260425T235510
CREATED:20250612T072546Z
LAST-MODIFIED:20250718T064314Z
UID:36766-1753603200-1753659000@kastoria.pdm.gov.gr
SUMMARY:27 Ιουλίου| η 2η Γιορτή Κτηνοτροφίας έρχεται στον Γράμμο!
DESCRIPTION:Η Περιφέρεια Δυτικής Μακεδονίας και η Αντιπεριφέρεια Αγροτικής Ανάπτυξης σε συνεργασία με την Περιφερειακή Ενότητα Καστοριάς\,  τον Δήμο Νεστορίου\, την  Πρόεδρο της Τ.Κ. Γράμμου\, την Υποδιεύθυνση Κτηνιατρικής Π.Ε. Καστοριάς\,  το Ινστιτούτο Κτηνιατρικών Ερευνών του ΕΛΓΟ – ΔΗΜΗΤΡΑ και τη Διεύθυνση Κτηνιατρικής Κέντρου Θεσσαλονίκης\, σας προσκαλούν σε μια μοναδική γιορτή αφιερωμένη στη μετακινούμενη κτηνοτροφία και την προστασία της υγείας του ζωϊκού κεφαλαίου! \nΣτην πλατεία του χωριού ΓράμμοςΚυριακή 27 Ιουλίου \n2η Γιορτή Κτηνοτροφίας\, \n«Καταπολέμηση Προβλημάτων Υγείας των Αγελαίων Παραγωγικών Ζώων»\,  \n– Ενημερωτικές ομιλίες για την υγεία των κοπαδιών και ζωονόσους-Παραδοσιακή μουσική με βλάχικα & ηπειρώτικα ακούσματα– Χορευτικές παραστάσεις από Συλλόγους Βλάχων– Παρουσίαση τοπικών προϊόντων & γευσιγνωσία με προσκεκλημένο σεφ– Δραστηριότητες για παιδιά: ιππασία\, ζωγραφική\, γνωριμία με ζώα & face painting \nΜια γιορτή που συνδυάζει παράδοση\, επιστήμη και τοπική ανάπτυξη! \nΕλάτε να τιμήσουμε τον πολιτισμό και να στηρίξουμε τη βιώσιμη κτηνοτροφία στην καρδιά της Δυτικής Μακεδονίας!
URL:https://kastoria.pdm.gov.gr/event/27-iouliou-i-2i-giorti-ktinotrofias-erchetai-ston-grammo/
LOCATION:χωριό Γράμμος\, Γράμμος Καστοριάς\, Greece
ATTACH;FMTTYPE=image/jpeg:https://kastoria.pdm.gov.gr/wp-content/uploads/2025/06/Giorti_Ktinotrofias.jpg
END:VEVENT
END:VCALENDAR