BEGIN:VCALENDAR
VERSION:2.0
PRODID:-//Περιφερειακή Ενότητα Καστοριάς - ECPv6.15.20//NONSGML v1.0//EN
CALSCALE:GREGORIAN
METHOD:PUBLISH
X-WR-CALNAME:Περιφερειακή Ενότητα Καστοριάς
X-ORIGINAL-URL:https://kastoria.pdm.gov.gr
X-WR-CALDESC:Events for Περιφερειακή Ενότητα Καστοριάς
REFRESH-INTERVAL;VALUE=DURATION:PT1H
X-Robots-Tag:noindex
X-PUBLISHED-TTL:PT1H
BEGIN:VTIMEZONE
TZID:Europe/Athens
BEGIN:DAYLIGHT
TZOFFSETFROM:+0200
TZOFFSETTO:+0300
TZNAME:EEST
DTSTART:20240331T010000
END:DAYLIGHT
BEGIN:STANDARD
TZOFFSETFROM:+0300
TZOFFSETTO:+0200
TZNAME:EET
DTSTART:20241027T010000
END:STANDARD
BEGIN:DAYLIGHT
TZOFFSETFROM:+0200
TZOFFSETTO:+0300
TZNAME:EEST
DTSTART:20250330T010000
END:DAYLIGHT
BEGIN:STANDARD
TZOFFSETFROM:+0300
TZOFFSETTO:+0200
TZNAME:EET
DTSTART:20251026T010000
END:STANDARD
BEGIN:DAYLIGHT
TZOFFSETFROM:+0200
TZOFFSETTO:+0300
TZNAME:EEST
DTSTART:20260329T010000
END:DAYLIGHT
BEGIN:STANDARD
TZOFFSETFROM:+0300
TZOFFSETTO:+0200
TZNAME:EET
DTSTART:20261025T010000
END:STANDARD
END:VTIMEZONE
BEGIN:VEVENT
DTSTART;TZID=Europe/Athens:20250502T120000
DTEND;TZID=Europe/Athens:20250504T203000
DTSTAMP:20260426T071544
CREATED:20250430T141549Z
LAST-MODIFIED:20250501T171459Z
UID:35502-1746187200-1746390600@kastoria.pdm.gov.gr
SUMMARY:2–4 Μαΐου| Μουσική Άνοιξη 2025
DESCRIPTION: Η Π.Ε. Καστοριάς συνδιοργανώνει τη μεγάλη καλλιτεχνική συνάντηση Μουσικών Σχολείων «Μουσική Άνοιξη: Δοξάτος\, Μουσικά Σύνολα στα Αρχοντικά της Καστοριάς»! \n2–4 Μαΐου 2025Καστοριά – Συναυλίες σε ιστορικά αρχοντικά14 Μουσικά Σχολεία | 1000+ μαθητές & εκπαιδευτικοί | Εκπαιδευτικά workshops & masterclasses \nΗ δράση έχει την έγκριση του Ι.Ε.Π. – Υ.ΠΑΙ.Θ.Α. και τελεί υπό την αιγίδα της Δ.Δ.Ε. Καστοριάς.Με τη στήριξη της Ι.Μ. Καστοριάς\, των Δήμων Καστοριάς & Άργους Ορεστικού\, της Εφορείας Αρχαιοτήτων και της Π.Ε. Καστοριάς. \nΑκολουθεί το αναλυτικό Πρόγραμμα του Φεστιβάλ \nprogramme2025
URL:https://kastoria.pdm.gov.gr/event/mousiki-anoixi-2025/
ATTACH;FMTTYPE=image/jpeg:https://kastoria.pdm.gov.gr/wp-content/uploads/2025/04/moysiki_anoixi2025.jpg
END:VEVENT
END:VCALENDAR