BEGIN:VCALENDAR
VERSION:2.0
PRODID:-//Περιφερειακή Ενότητα Καστοριάς - ECPv6.15.20//NONSGML v1.0//EN
CALSCALE:GREGORIAN
METHOD:PUBLISH
X-WR-CALNAME:Περιφερειακή Ενότητα Καστοριάς
X-ORIGINAL-URL:https://kastoria.pdm.gov.gr
X-WR-CALDESC:Events for Περιφερειακή Ενότητα Καστοριάς
REFRESH-INTERVAL;VALUE=DURATION:PT1H
X-Robots-Tag:noindex
X-PUBLISHED-TTL:PT1H
BEGIN:VTIMEZONE
TZID:Europe/Moscow
BEGIN:STANDARD
TZOFFSETFROM:+0300
TZOFFSETTO:+0300
TZNAME:MSK
DTSTART:20220101T000000
END:STANDARD
END:VTIMEZONE
BEGIN:VEVENT
DTSTART;TZID=Europe/Moscow:20230630T170000
DTEND;TZID=Europe/Moscow:20230701T203000
DTSTAMP:20260425T193026
CREATED:20230627T085544Z
LAST-MODIFIED:20230627T112723Z
UID:25236-1688144400-1688243400@kastoria.pdm.gov.gr
SUMMARY:Διοργάνωση Δράση για τον «Κρίνο της Παναγιάς»
DESCRIPTION:30/06-01/07\, Διοργάνωση Δράση για τον «Κρίνο της Παναγιάς». Για δεύτερη χρονιά η Π.Ε Καστοριάς προσπαθεί να αναδείξει και να προβάλει τη βιοποικιλότητα της περιοχής. Στο λόφο του Προφήτη Ηλία\, φύεται και ευδοκιμεί ο Κρίνος της Παναγίας (Lilium Candidum ή Madonna Lily)\, το μοναδικό αυτό λουλούδι που παρουσιάζει μία από τις μεγαλύτερες συγκεντρώσεις σε όλη την Ελλάδα. Ένα διήμερο δράσεων με ομιλίες\, διαγωνισμό φωτογραφίας\, ξεναγήσεις\, αγώνα δρόμου\, δράσεις καθαριότητας αλλά και παιχνίδια\, σας  περιμένουν για να γνωρίσετε από κοντά το αυτοφυές αυτό φυτό!
URL:https://kastoria.pdm.gov.gr/event/diorganosi-drasi-gia-ton-krino-tis-panagias/
LOCATION:Λόφος Προφήτη Ηλία Καστοριάς\, Βουνό Καστοριάς\, Καστοριά\, Καστοριά\, 52100\, Ελλάδα
ATTACH;FMTTYPE=image/jpeg:https://kastoria.pdm.gov.gr/wp-content/uploads/2023/06/afisa_krinos.jpg
END:VEVENT
BEGIN:VEVENT
DTSTART;TZID=Europe/Moscow:20230630T080000
DTEND;TZID=Europe/Moscow:20230701T230000
DTSTAMP:20260425T193026
CREATED:20230627T093129Z
LAST-MODIFIED:20251104T131407Z
UID:25242-1688112000-1688252400@kastoria.pdm.gov.gr
SUMMARY:30/06-01/07 Συν-διοργάνωση εκδηλώσεων με τον Εκπολιτιστικό Εξωραϊστικό Σύλλογο Κρανοχωρίου «ΝΕΑ ΠΝΟΗ»
DESCRIPTION:30/06-01/07 Συν-διοργάνωση εκδηλώσεων με τον Εκπολιτιστικό Εξωραϊστικό Σύλλογο Κρανοχωρίου «ΝΕΑ ΠΝΟΗ». Με αφορμή τον εορτασμό των Αγίων Αναργύρων\, ο σύλλογος διοργανώνει διήμερο Παραδοσιακό Πανηγύρι. Οι εκδηλώσεις θα στον προαύλιο χώρο του συλλόγου και θα πλαισιώνονται με παρουσίαση τοπικών χορευτικών και ζωντανή παραδοσιακή μουσική του τόπου μας.
URL:https://kastoria.pdm.gov.gr/event/30-06-01-07-syn-diorganosi-ekdiloseon-me-ton-ekpolitistiko-exoraistiko-syllogo-kranochoriou-nea-pnoi/
ATTACH;FMTTYPE=image/jpeg:https://kastoria.pdm.gov.gr/wp-content/uploads/2023/06/kranoxori.jpg
END:VEVENT
END:VCALENDAR