BEGIN:VCALENDAR
VERSION:2.0
PRODID:-//Περιφερειακή Ενότητα Καστοριάς - ECPv6.15.20//NONSGML v1.0//EN
CALSCALE:GREGORIAN
METHOD:PUBLISH
X-WR-CALNAME:Περιφερειακή Ενότητα Καστοριάς
X-ORIGINAL-URL:https://kastoria.pdm.gov.gr
X-WR-CALDESC:Events for Περιφερειακή Ενότητα Καστοριάς
REFRESH-INTERVAL;VALUE=DURATION:PT1H
X-Robots-Tag:noindex
X-PUBLISHED-TTL:PT1H
BEGIN:VTIMEZONE
TZID:Europe/Moscow
BEGIN:STANDARD
TZOFFSETFROM:+0300
TZOFFSETTO:+0300
TZNAME:MSK
DTSTART:20220101T000000
END:STANDARD
END:VTIMEZONE
BEGIN:VEVENT
DTSTART;VALUE=DATE:20230725
DTEND;VALUE=DATE:20230727
DTSTAMP:20260424T013828
CREATED:20230724T065334Z
LAST-MODIFIED:20230724T065334Z
UID:25836-1690243200-1690415999@kastoria.pdm.gov.gr
SUMMARY:Διήμερες πολιτιστικές εκδηλώσεις στο πέτρινο δημοτικό σχολείο του χωριού για τον εορτασμό της Αγίας Παρασκευής
DESCRIPTION:Συν-διοργάνωση εκδηλώσεων με τον Εξωραϊστικό και Μορφωτικό Σύλλογο Μανιάκων Καστοριάς. Με αφορμή τον εορτασμό της πολιούχου του χωριού\, Αγίας Παρασκευής\, ο Σύλλογος πραγματοποιεί διήμερες πολιτιστικές εκδηλώσεις στο πέτρινο δημοτικό σχολείο του χωριού\, με τη συμμετοχή ζωντανής παραδοσιακής μουσικής και χορευτικών τμημάτων όπου θα παρουσιάσουν πατροπαράδοτους χορούς.
URL:https://kastoria.pdm.gov.gr/event/diimeres-politistikes-ekdiloseis-sto-petrino-dimotiko-scholeio-tou-choriou-gia-ton-eortasmo-tis-agias-paraskevis/
END:VEVENT
BEGIN:VEVENT
DTSTART;VALUE=DATE:20230715
DTEND;VALUE=DATE:20230716
DTSTAMP:20260424T013828
CREATED:20230712T113842Z
LAST-MODIFIED:20230712T113842Z
UID:25673-1689379200-1689465599@kastoria.pdm.gov.gr
SUMMARY:Διεθνές Grand Prix Στίβου στο Άργος Ορεστικό
DESCRIPTION:15 Ιουλίου\, ΔιεθνέςGrand Prix Στίβου στο Άργος Ορεστικό. Πρόκειται για αγώνες κλασικού αθλητισμού που διοργανώνονται από τον  Φιλαθλητικό Σύλλογο Άργους Ορεστικού  στο Δημοτικό Αθλητικό Κέντρο Άργους Ορεστικού.
URL:https://kastoria.pdm.gov.gr/event/diethnes-grand-prix-stivou-sto-argos-orestiko/
END:VEVENT
BEGIN:VEVENT
DTSTART;VALUE=DATE:20230714
DTEND;VALUE=DATE:20230716
DTSTAMP:20260424T013828
CREATED:20230712T113705Z
LAST-MODIFIED:20230712T113705Z
UID:25671-1689292800-1689465599@kastoria.pdm.gov.gr
SUMMARY:Έκθεση παραδοσιακών στολών\, φορεσιών από περιοχές της Μικράς Ασίας\, του Πόντου και της Κεντρικής Μακεδονίας και παρασκευή παραδοσιακών φαγητών
DESCRIPTION:Συν-διοργάνωση εκδηλώσεων με τον Πολιτιστικό Σύλλογο Χιονάτου«Κωνσταντίνου και Ελένης». Στο πλαίσιο των διήμερων δράσεων θα πραγματοποιηθεί: Έκθεση παραδοσιακών στολών\, φορεσιών από περιοχές της Μικράς Ασίας\, του Πόντου και της Κεντρικής Μακεδονίας και παρασκευή παραδοσιακών φαγητών. Παράλληλα θα γίνει παρουσίαση – παράσταση χορευτικών με τη συνοδεία ζωντανής παραδοσιακής μουσικής.
URL:https://kastoria.pdm.gov.gr/event/ekthesi-paradosiakon-stolon-foresion-apo-perioches-tis-mikras-asias-tou-pontou-kai-tis-kentrikis-makedonias-kai-paraskevi-paradosiakon-fagiton/
END:VEVENT
BEGIN:VEVENT
DTSTART;VALUE=DATE:20230711
DTEND;VALUE=DATE:20230715
DTSTAMP:20260424T013828
CREATED:20230712T113451Z
LAST-MODIFIED:20230712T113451Z
UID:25668-1689033600-1689379199@kastoria.pdm.gov.gr
SUMMARY:103η Σύνοδος Πρυτάνεων Ελληνικών Πανεπιστημίων\,  στην Καστοριά
DESCRIPTION:103η Σύνοδος Πρυτάνεων Ελληνικών Πανεπιστημίων\,  στην Καστοριά. Η Σύνοδος Πρυτάνεων των Ελληνικών Πανεπιστημίων\, αποτελεί κορυφαίο γεγονός για την Ελληνική Ανώτατη Εκπαίδευση και ενιαία έκφραση των πανεπιστημίων της χώρας για τη διαμόρφωση θέσεων σε θέματα πανεπιστημιακής εκπαίδευσης και έρευνας\, αλλά και ευκαιρία ανάδειξης της ευρύτερης περιοχής.  Σκοπός της Συνόδου είναι μεταξύ άλλων ο συντονισμός της δραστηριότητας των 24 ΑΕΙ\, η συλλογική εκπροσώπησή τους και η παροχή συνδρομής στην Πολιτεία για τον σχεδιασμό και την εφαρμογή μέτρων εκπαιδευτικής και ερευνητικής πολιτικής. \n 
URL:https://kastoria.pdm.gov.gr/event/103i-synodos-prytaneon-ellinikon-panepistimion-stin-kastoria/
END:VEVENT
BEGIN:VEVENT
DTSTART;TZID=Europe/Moscow:20230708T080000
DTEND;TZID=Europe/Moscow:20230708T170000
DTSTAMP:20260424T013828
CREATED:20230627T095328Z
LAST-MODIFIED:20230628T065017Z
UID:25255-1688803200-1688835600@kastoria.pdm.gov.gr
SUMMARY:08/07/23 Αγώνες Ποδηλασίας με τον Ποδηλατικό Σύλλογο Καστοριάς ¨620.
DESCRIPTION:08/07/23 Αγώνες Ποδηλασίας με τον Ποδηλατικό Σύλλογο Καστοριάς ¨620. Το 7ο Brevet Καστοριάς\, μια ποδηλατική εκδήλωση με την επωνυμία ‘’ Τα Χωριά της λήθης – Στα βήματα του Παύλου Μελά’’\, απόστασης 200 χλμ.
URL:https://kastoria.pdm.gov.gr/event/08-07-23-agones-podilasias-me-ton-podilatiko-syllogo-kastorias-%c2%a8620/
ATTACH;FMTTYPE=image/webp:https://kastoria.pdm.gov.gr/wp-content/uploads/2023/06/brevet_2023.webp
END:VEVENT
BEGIN:VEVENT
DTSTART;TZID=Europe/Moscow:20230706T080000
DTEND;TZID=Europe/Moscow:20230707T170000
DTSTAMP:20260424T013828
CREATED:20230627T095048Z
LAST-MODIFIED:20230628T070856Z
UID:25253-1688630400-1688749200@kastoria.pdm.gov.gr
SUMMARY:06-07/07/23\, Συν-διοργάνωση εκδήλωσης με τον Πολιτιστικό Σύλλογο Αγίας Κυριακής
DESCRIPTION:06-07/07/23\, Συν-διοργάνωση εκδήλωσης με τον Πολιτιστικό Σύλλογο Αγίας Κυριακής. Πρόκειται για υπαίθριες εκδηλώσεις αναβίωσης ηθών και εθίμων της ποντιακής παράδοσης με ζωντανή μουσική και επίδειξη χορών. Παράλληλα\, θα προσφερθούν από τον σύλλογο παραδοσιακά ποντιακά εδέσματα σε όλους τους παρευρισκόμενους\, δίνοντας τη δυνατότητα γνωριμίας με ντόπιες συνταγές.
URL:https://kastoria.pdm.gov.gr/event/06-07-07-23-syn-diorganosi-ekdilosis-me-ton-politistiko-syllogo-agias-kyriakis/
ATTACH;FMTTYPE=image/webp:https://kastoria.pdm.gov.gr/wp-content/uploads/2023/06/agia_kiriaki_06jul_2023.webp
END:VEVENT
BEGIN:VEVENT
DTSTART;TZID=Europe/Moscow:20230702T100000
DTEND;TZID=Europe/Moscow:20230702T180000
DTSTAMP:20260424T013828
CREATED:20230627T094753Z
LAST-MODIFIED:20230628T065049Z
UID:25249-1688292000-1688320800@kastoria.pdm.gov.gr
SUMMARY:02 Ιουλίου\, 1η έκθεση Ιστορικών Οχημάτων Καστοριάς 
DESCRIPTION:02 Ιουλίου\, 1η έκθεση Ιστορικών Οχημάτων Καστοριάς με την Ομάδα Κλασικών Οχημάτων Καστοριάς (Ο.ΚΛ.Ο.Κ) \, η οποία θα γίνει στο χώρο στάθμευσης μπροστά από το κτίριο της ΠΕ Καστοριάς \, ώρες 10.00 – 18.00
URL:https://kastoria.pdm.gov.gr/event/02-iouliou-1i-ekthesi-istorikon-ochimaton-kastorias/
ATTACH;FMTTYPE=image/png:https://kastoria.pdm.gov.gr/wp-content/uploads/2023/06/klasika_oximata.png
END:VEVENT
BEGIN:VEVENT
DTSTART;TZID=Europe/Moscow:20230701T080000
DTEND;TZID=Europe/Moscow:20230702T223000
DTSTAMP:20260424T013828
CREATED:20230627T094252Z
LAST-MODIFIED:20230627T094252Z
UID:25244-1688198400-1688337000@kastoria.pdm.gov.gr
SUMMARY:01-02 Ιουλίου Λατρευτικές και πολιτιστικές εκδηλώσεις στον κυκλικό κόμβο
DESCRIPTION:01-02 Ιουλίου\, Σωματείο Κέντρο Δράσης και Προσφοράς\, λατρευτικές και πολιτιστικές εκδηλώσεις στον κυκλικό κόμβο\, έναντι του Ι.Ν. Αγίου Νικάνορος στη Χλόη Καστοριάς
URL:https://kastoria.pdm.gov.gr/event/01-02-iouliou-latreftikes-kai-politistikes-ekdiloseis-ston-kykliko-komvo/
END:VEVENT
BEGIN:VEVENT
DTSTART;TZID=Europe/Moscow:20230701T080000
DTEND;TZID=Europe/Moscow:20230702T170000
DTSTAMP:20260424T013828
CREATED:20230627T094522Z
LAST-MODIFIED:20230628T070141Z
UID:25246-1688198400-1688317200@kastoria.pdm.gov.gr
SUMMARY:01-02 Ιουλίου\, Αγώνες κωπηλασίας \,15η Πανελλήνια Συνάντηση Ανάπτυξης
DESCRIPTION:01-02 Ιουλίου\, Αγώνες κωπηλασίας με την Ελληνική Κωπηλατική Ομοσπονδία Φιλάθλων Ναυτικών Σωματείων (15η Πανελλήνια Συνάντηση Ανάπτυξης\, α φάση). Πρόκειται για μια γιορτή για τον αθλητισμό και αφορά ηλικίες 12-14 ετών. Νεαροί αθλητές\, συναγωνίζονται χωρίς σκοπιμότητες και πάντα με αθλητικά άμιλλα\, βιώνοντας τη χαρά του αθλητισμού και τα πολλαπλά οφέλη του. Φέτος θα γίνει τελετή έναρξης των αγώνων\, στο πάρκο Ολυμπιακής Φλόγας\, όπου θα παρελάσουν όλες οι συμμετέχουσες αποστολές\, μια ημέρα πριν την έναρξη των διήμερων αγώνων
URL:https://kastoria.pdm.gov.gr/event/01-02-iouliou-agones-kopilasias-15i-panellinia-synantisi-anaptyxis/
ATTACH;FMTTYPE=image/jpeg:https://kastoria.pdm.gov.gr/wp-content/uploads/2017/02/kopilasia.jpg
END:VEVENT
BEGIN:VEVENT
DTSTART;TZID=Europe/Moscow:20230630T170000
DTEND;TZID=Europe/Moscow:20230701T203000
DTSTAMP:20260424T013828
CREATED:20230627T085544Z
LAST-MODIFIED:20230627T112723Z
UID:25236-1688144400-1688243400@kastoria.pdm.gov.gr
SUMMARY:Διοργάνωση Δράση για τον «Κρίνο της Παναγιάς»
DESCRIPTION:30/06-01/07\, Διοργάνωση Δράση για τον «Κρίνο της Παναγιάς». Για δεύτερη χρονιά η Π.Ε Καστοριάς προσπαθεί να αναδείξει και να προβάλει τη βιοποικιλότητα της περιοχής. Στο λόφο του Προφήτη Ηλία\, φύεται και ευδοκιμεί ο Κρίνος της Παναγίας (Lilium Candidum ή Madonna Lily)\, το μοναδικό αυτό λουλούδι που παρουσιάζει μία από τις μεγαλύτερες συγκεντρώσεις σε όλη την Ελλάδα. Ένα διήμερο δράσεων με ομιλίες\, διαγωνισμό φωτογραφίας\, ξεναγήσεις\, αγώνα δρόμου\, δράσεις καθαριότητας αλλά και παιχνίδια\, σας  περιμένουν για να γνωρίσετε από κοντά το αυτοφυές αυτό φυτό!
URL:https://kastoria.pdm.gov.gr/event/diorganosi-drasi-gia-ton-krino-tis-panagias/
LOCATION:Λόφος Προφήτη Ηλία Καστοριάς\, Βουνό Καστοριάς\, Καστοριά\, Καστοριά\, 52100\, Ελλάδα
ATTACH;FMTTYPE=image/jpeg:https://kastoria.pdm.gov.gr/wp-content/uploads/2023/06/afisa_krinos.jpg
END:VEVENT
BEGIN:VEVENT
DTSTART;TZID=Europe/Moscow:20230630T080000
DTEND;TZID=Europe/Moscow:20230701T230000
DTSTAMP:20260424T013828
CREATED:20230627T093129Z
LAST-MODIFIED:20251104T131407Z
UID:25242-1688112000-1688252400@kastoria.pdm.gov.gr
SUMMARY:30/06-01/07 Συν-διοργάνωση εκδηλώσεων με τον Εκπολιτιστικό Εξωραϊστικό Σύλλογο Κρανοχωρίου «ΝΕΑ ΠΝΟΗ»
DESCRIPTION:30/06-01/07 Συν-διοργάνωση εκδηλώσεων με τον Εκπολιτιστικό Εξωραϊστικό Σύλλογο Κρανοχωρίου «ΝΕΑ ΠΝΟΗ». Με αφορμή τον εορτασμό των Αγίων Αναργύρων\, ο σύλλογος διοργανώνει διήμερο Παραδοσιακό Πανηγύρι. Οι εκδηλώσεις θα στον προαύλιο χώρο του συλλόγου και θα πλαισιώνονται με παρουσίαση τοπικών χορευτικών και ζωντανή παραδοσιακή μουσική του τόπου μας.
URL:https://kastoria.pdm.gov.gr/event/30-06-01-07-syn-diorganosi-ekdiloseon-me-ton-ekpolitistiko-exoraistiko-syllogo-kranochoriou-nea-pnoi/
ATTACH;FMTTYPE=image/jpeg:https://kastoria.pdm.gov.gr/wp-content/uploads/2023/06/kranoxori.jpg
END:VEVENT
END:VCALENDAR