BEGIN:VCALENDAR
VERSION:2.0
PRODID:-//Περιφερειακή Ενότητα Καστοριάς - ECPv6.15.20//NONSGML v1.0//EN
CALSCALE:GREGORIAN
METHOD:PUBLISH
X-ORIGINAL-URL:https://kastoria.pdm.gov.gr
X-WR-CALDESC:Events for Περιφερειακή Ενότητα Καστοριάς
REFRESH-INTERVAL;VALUE=DURATION:PT1H
X-Robots-Tag:noindex
X-PUBLISHED-TTL:PT1H
BEGIN:VTIMEZONE
TZID:Europe/Athens
BEGIN:DAYLIGHT
TZOFFSETFROM:+0200
TZOFFSETTO:+0300
TZNAME:EEST
DTSTART:20240331T010000
END:DAYLIGHT
BEGIN:STANDARD
TZOFFSETFROM:+0300
TZOFFSETTO:+0200
TZNAME:EET
DTSTART:20241027T010000
END:STANDARD
BEGIN:DAYLIGHT
TZOFFSETFROM:+0200
TZOFFSETTO:+0300
TZNAME:EEST
DTSTART:20250330T010000
END:DAYLIGHT
BEGIN:STANDARD
TZOFFSETFROM:+0300
TZOFFSETTO:+0200
TZNAME:EET
DTSTART:20251026T010000
END:STANDARD
BEGIN:DAYLIGHT
TZOFFSETFROM:+0200
TZOFFSETTO:+0300
TZNAME:EEST
DTSTART:20260329T010000
END:DAYLIGHT
BEGIN:STANDARD
TZOFFSETFROM:+0300
TZOFFSETTO:+0200
TZNAME:EET
DTSTART:20261025T010000
END:STANDARD
END:VTIMEZONE
BEGIN:VEVENT
DTSTART;TZID=Europe/Athens:20251003T080000
DTEND;TZID=Europe/Athens:20251005T233000
DTSTAMP:20260423T140402
CREATED:20250703T105910Z
LAST-MODIFIED:20250703T105910Z
UID:37233-1759478400-1759707000@kastoria.pdm.gov.gr
SUMMARY:03-05 Οκτωβρίου| Πανελλήνιο Συνέδριο Επαρχιακού Τύπου στην Καστοριά!
DESCRIPTION: Η Ένωση Συντακτών Επαρχιακού Τύπου (ΕΣΕΤ) διοργανώνει  03-05 Οκτωβρίου 2025\, στην Καστοριά\, το 55ο Πανελλήνιο Δημοσιογραφικό Συνέδριο! \nΜια μοναδική ευκαιρία για την περιοχή μας να αναδείξει τα τοπικά της πλεονεκτήματα σε εθνικό επίπεδο\, μέσα από συζητήσεις και εισηγήσεις καταξιωμένων δημοσιογράφων\, επιστημόνων και πανεπιστημιακών. \n Στόχος: Η ενίσχυση του ρόλου των περιφερειακών μέσων ενημέρωσης και η ανάδειξη της σχέσης τους με την τοπική ιστορία\, τον πολιτισμό και τους φορείς της Καστοριάς. \n Το συνέδριο περιλαμβάνει ειδικές συνεδρίες για την τοπική παράδοση\, ιστορικά μνημεία και πολιτιστικά σημεία\, καθώς και ξεναγήσεις που θα φέρουν στο φως τον πλούτο της περιοχής μας.
URL:https://kastoria.pdm.gov.gr/event/03-05-oktovriou-panellinio-synedrio-eparchiakou-typou-stin-kastoria/
LOCATION:Καστοριά\, Καστοριά\, Greece
END:VEVENT
END:VCALENDAR