BEGIN:VCALENDAR
VERSION:2.0
PRODID:-//Περιφερειακή Ενότητα Καστοριάς - ECPv6.15.20//NONSGML v1.0//EN
CALSCALE:GREGORIAN
METHOD:PUBLISH
X-WR-CALNAME:Περιφερειακή Ενότητα Καστοριάς
X-ORIGINAL-URL:https://kastoria.pdm.gov.gr
X-WR-CALDESC:Events for Περιφερειακή Ενότητα Καστοριάς
REFRESH-INTERVAL;VALUE=DURATION:PT1H
X-Robots-Tag:noindex
X-PUBLISHED-TTL:PT1H
BEGIN:VTIMEZONE
TZID:Europe/Athens
BEGIN:DAYLIGHT
TZOFFSETFROM:+0200
TZOFFSETTO:+0300
TZNAME:EEST
DTSTART:20240331T010000
END:DAYLIGHT
BEGIN:STANDARD
TZOFFSETFROM:+0300
TZOFFSETTO:+0200
TZNAME:EET
DTSTART:20241027T010000
END:STANDARD
BEGIN:DAYLIGHT
TZOFFSETFROM:+0200
TZOFFSETTO:+0300
TZNAME:EEST
DTSTART:20250330T010000
END:DAYLIGHT
BEGIN:STANDARD
TZOFFSETFROM:+0300
TZOFFSETTO:+0200
TZNAME:EET
DTSTART:20251026T010000
END:STANDARD
BEGIN:DAYLIGHT
TZOFFSETFROM:+0200
TZOFFSETTO:+0300
TZNAME:EEST
DTSTART:20260329T010000
END:DAYLIGHT
BEGIN:STANDARD
TZOFFSETFROM:+0300
TZOFFSETTO:+0200
TZNAME:EET
DTSTART:20261025T010000
END:STANDARD
END:VTIMEZONE
BEGIN:VEVENT
DTSTART;TZID=Europe/Athens:20250909T200000
DTEND;TZID=Europe/Athens:20250910T233000
DTSTAMP:20260424T132746
CREATED:20250818T061818Z
LAST-MODIFIED:20250910T084339Z
UID:38014-1757448000-1757547000@kastoria.pdm.gov.gr
SUMMARY:9-10 Σεπτεμβρίου| 13ο Βαλκανικό «Φθινοπωρινό Συναπάντημα» στο Άργος Ορεστικό
DESCRIPTION:Ο Λαογραφικός Όμιλος «Αργέσται» Άργους Ορεστικού σας προσκαλεί στο 13ο Βαλκανικό «Φθινοπωρινό Συναπάντημα» – δύο μέρες γεμάτες χορό\, μουσική και παράδοση! \nΤρίτη 9 & Τετάρτη 10 Σεπτεμβρίου 2025Άργος Ορεστικό – το σημείο όπου η παράδοση συναντά το σήμερα! \n \nΜέσα από τη συμμετοχή χορευτικών συγκροτημάτων από την Ελλάδα και τα Βαλκάνια (Λευκάδα\, Ρουμανία) και τη συνοδεία ζωντανής παραδοσιακής μουσικής\, θα ζήσουμε ένα αντάμωμα γεμάτο χρώματα\, ήχους και βήματα που ενώνουν όλους! \n✨ Τρίτη 9 Σεπτεμβρίου: Χοροί από τον ελλαδικό και βαλκανικό χώρο και μεγάλο λαϊκό γλέντι για να ανοίξει η γιορτή με κέφι και χαρά.✨ Τετάρτη 10 Σεπτεμβρίου: Χορευτικά συγκροτήματα της Δυτικής Μακεδονίας αναδεικνύουν την πλούσια μουσικοχορευτική μας κληρονομιά\, ενώ στο τέλος μικροί και μεγάλοι θα χορέψουν όλοι μαζί\, σε μια μαγική στιγμή κοινότητας και παράδοσης. \nΗ Περιφερειακή Ενότητα Καστοριάς στηρίζει θερμά τη διοργάνωση\, αναγνωρίζοντας τη σημασία των πολιτιστικών δράσεων που φέρνουν κοντά τις κοινότητες και αναδεικνύουν τον πλούτο της τοπικής και βαλκανικής παράδοσης. \nΕλάτε να ζήσουμε τη μαγεία της παράδοσης και να δείξουμε πως ο χορός μας ενώνει όλους!
URL:https://kastoria.pdm.gov.gr/event/38014/
LOCATION:Άργος Ορεστικό- Νέο Πάρκο\, Greece
ATTACH;FMTTYPE=image/webp:https://kastoria.pdm.gov.gr/wp-content/uploads/2025/09/Argestai.webp
END:VEVENT
END:VCALENDAR