BEGIN:VCALENDAR
VERSION:2.0
PRODID:-//Περιφερειακή Ενότητα Καστοριάς - ECPv6.15.20//NONSGML v1.0//EN
CALSCALE:GREGORIAN
METHOD:PUBLISH
X-ORIGINAL-URL:https://kastoria.pdm.gov.gr
X-WR-CALDESC:Events for Περιφερειακή Ενότητα Καστοριάς
REFRESH-INTERVAL;VALUE=DURATION:PT1H
X-Robots-Tag:noindex
X-PUBLISHED-TTL:PT1H
BEGIN:VTIMEZONE
TZID:Europe/Athens
BEGIN:DAYLIGHT
TZOFFSETFROM:+0200
TZOFFSETTO:+0300
TZNAME:EEST
DTSTART:20240331T010000
END:DAYLIGHT
BEGIN:STANDARD
TZOFFSETFROM:+0300
TZOFFSETTO:+0200
TZNAME:EET
DTSTART:20241027T010000
END:STANDARD
BEGIN:DAYLIGHT
TZOFFSETFROM:+0200
TZOFFSETTO:+0300
TZNAME:EEST
DTSTART:20250330T010000
END:DAYLIGHT
BEGIN:STANDARD
TZOFFSETFROM:+0300
TZOFFSETTO:+0200
TZNAME:EET
DTSTART:20251026T010000
END:STANDARD
BEGIN:DAYLIGHT
TZOFFSETFROM:+0200
TZOFFSETTO:+0300
TZNAME:EEST
DTSTART:20260329T010000
END:DAYLIGHT
BEGIN:STANDARD
TZOFFSETFROM:+0300
TZOFFSETTO:+0200
TZNAME:EET
DTSTART:20261025T010000
END:STANDARD
END:VTIMEZONE
BEGIN:VEVENT
DTSTART;TZID=Europe/Athens:20250816T080000
DTEND;TZID=Europe/Athens:20250823T233000
DTSTAMP:20260424T133047
CREATED:20250710T061438Z
LAST-MODIFIED:20250710T061438Z
UID:37424-1755331200-1755991800@kastoria.pdm.gov.gr
SUMMARY:16-23 Αυγούστου| Δραγούμεια στο Βογατσικό Καστοριάς!
DESCRIPTION:Ο Αθλητικός\, Πολιτιστικός\, Εξωραϊστικός Σύλλογος Α.Π.Ε.Σ. Ομόνοια Βογατσικού θα πραγματοποιήσει 8ήμερες εκδηλώσεις στο Βογατσικό Καστοριάς (16-23 Αυγούστου)\, στον προαύλειο χώρο του Δημοτικού Σχολείου Βογατσικού\, στον προαύλιο χώρο του Γυμνασίου Βογαστικού και στην κεντρική πλατεία του χωριού\, αναβιώνοντας έτσι το παραδοσιακό χοροστάσι του χωριού. \nΜε στόχο: \n– Τη διατήρηση των παραδόσεών μας-Την ενίσχυση της πολιτιστικής ταυτότητας των νέων– Την τουριστική και πολιτιστική ανάδειξη της περιοχής μας \n Η ΠΕ Καστοριάς στηρίζει και ενισχύει δράσεις που φέρνουν ανθρώπους\, ιστορία και πολιτισμό πιο κοντά. \nΣας περιμένουμε όλους σε μια γιορτή μνήμης\, παράδοσης και σύγχρονης δημιουργίας!
URL:https://kastoria.pdm.gov.gr/event/16-23-avgoustou-dragoumeia-sto-vogatsiko-kastorias/
LOCATION:Βογατσικό Καστοριάς\, Βογατσικό\, Greece
END:VEVENT
BEGIN:VEVENT
DTSTART;TZID=Europe/Athens:20250821T160000
DTEND;TZID=Europe/Athens:20250821T233000
DTSTAMP:20260424T133047
CREATED:20250612T082923Z
LAST-MODIFIED:20250818T105537Z
UID:36781-1755792000-1755819000@kastoria.pdm.gov.gr
SUMMARY:21 Αυγούστου| Εκδήλωση στο Βογατσικό Καστοριάς από τον Σύνδεσμο Βογατσιωτών Θεσσαλονίκης!
DESCRIPTION:Ο Σύνδεσμος Βογατσιωτών Θεσσαλονίκης θα πραγματοποιήσει στις 21 Αυγούστου 2025 στην πλατεία Βογατσικού\, στο πλαίσιο των καθιερωμένων Δραγουμείων \n Ένα υπερθέαμα πολιτισμού και παράδοσης\, αφιερωμένο στην Ελλάδα και τον Απανταχού Ελληνισμό\, με χορευτικά από κάθε γωνιά της χώρας και δυναμική προβολή του τόπου μας – της Καστοριάς. \nΜε στόχο:\n– Τη διατήρηση των παραδόσεών μας-Την ενίσχυση της πολιτιστικής ταυτότητας των νέων– Την τουριστική και πολιτιστική ανάδειξη της περιοχής μας \n Η ΠΕ Καστοριάς στηρίζει και ενισχύει δράσεις που φέρνουν ανθρώπους\, ιστορία και πολιτισμό πιο κοντά. \nΣας περιμένουμε όλους σε μια γιορτή μνήμης\, παράδοσης και σύγχρονης δημιουργίας!
URL:https://kastoria.pdm.gov.gr/event/21-avgoustou-dragoumeia-sto-vogatsiko-kastorias/
LOCATION:Βογατσικό Καστοριάς\, Βογατσικό\, Greece
ATTACH;FMTTYPE=image/jpeg:https://kastoria.pdm.gov.gr/wp-content/uploads/2025/08/Bogatsiko.jpeg
END:VEVENT
END:VCALENDAR