BEGIN:VCALENDAR
VERSION:2.0
PRODID:-//Περιφερειακή Ενότητα Καστοριάς - ECPv6.15.20//NONSGML v1.0//EN
CALSCALE:GREGORIAN
METHOD:PUBLISH
X-WR-CALNAME:Περιφερειακή Ενότητα Καστοριάς
X-ORIGINAL-URL:https://kastoria.pdm.gov.gr
X-WR-CALDESC:Events for Περιφερειακή Ενότητα Καστοριάς
REFRESH-INTERVAL;VALUE=DURATION:PT1H
X-Robots-Tag:noindex
X-PUBLISHED-TTL:PT1H
BEGIN:VTIMEZONE
TZID:Europe/Athens
BEGIN:DAYLIGHT
TZOFFSETFROM:+0200
TZOFFSETTO:+0300
TZNAME:EEST
DTSTART:20240331T010000
END:DAYLIGHT
BEGIN:STANDARD
TZOFFSETFROM:+0300
TZOFFSETTO:+0200
TZNAME:EET
DTSTART:20241027T010000
END:STANDARD
BEGIN:DAYLIGHT
TZOFFSETFROM:+0200
TZOFFSETTO:+0300
TZNAME:EEST
DTSTART:20250330T010000
END:DAYLIGHT
BEGIN:STANDARD
TZOFFSETFROM:+0300
TZOFFSETTO:+0200
TZNAME:EET
DTSTART:20251026T010000
END:STANDARD
BEGIN:DAYLIGHT
TZOFFSETFROM:+0200
TZOFFSETTO:+0300
TZNAME:EEST
DTSTART:20260329T010000
END:DAYLIGHT
BEGIN:STANDARD
TZOFFSETFROM:+0300
TZOFFSETTO:+0200
TZNAME:EET
DTSTART:20261025T010000
END:STANDARD
END:VTIMEZONE
BEGIN:VEVENT
DTSTART;TZID=Europe/Athens:20250802T140000
DTEND;TZID=Europe/Athens:20250802T233000
DTSTAMP:20260424T133049
CREATED:20250509T091041Z
LAST-MODIFIED:20250512T112641Z
UID:35811-1754143200-1754177400@kastoria.pdm.gov.gr
SUMMARY:2 Αυγούστου | 30ή Γιορτή Μανιταριού στην Οξυά
DESCRIPTION:Ο Πολιτιστικός Αθλητικός Σύλλογος Οξυάς σας προσκαλεί να γιορτάσουμε μαζί τη 30ή Γιορτή Μανιταριού στην Οξυά\, που θα πραγματοποιηθεί στις 2 Αυγούστου 2025. Η εκδήλωση θα περιλαμβάνει ζωντανή παραδοσιακή μουσική και τοπικά χορευτικά συγκροτήματα\, δημιουργώντας μια μοναδική γιορτή για μικρούς και μεγάλους. Στο πλαίσιο της γιορτής\, οι επισκέπτες θα έχουν την ευκαιρία να απολαύσουν τα παραδοσιακά ακούσματα της περιοχής\, ενώ ταυτόχρονα θα προσφέρονται δωρεάν μανιτάρια για γευστική απόλαυση . \n \nΗ 30ή Γιορτή Μανιταριού αναδεικνύει τη φυσική κληρονομιά της περιοχής και την αξία των μανιταριών\, με παρουσίαση των διαφόρων ειδών που φύονται στην περιοχή και των ευεργετικών τους ιδιοτήτων . \nΗ Π.Ε. Καστοριάς στηρίζει δράσεις που ενώνουν την τοπική κοινωνία και προωθούν τη διατήρηση της πολιτιστικής μας ταυτότητας\, ενώ ταυτόχρονα προβάλλει τη φυσική ομορφιά και τα μοναδικά προϊόντα του τόπου μας. \n✨ Ελάτε να γιορτάσουμε τη μοναδική γιορτή των μανιταριών και να απολαύσουμε τη φύση\, την παράδοση και την τοπική κουλτούρα μαζί! ✨
URL:https://kastoria.pdm.gov.gr/event/2-avgoustou-30i-giorti-manitariou-stin-oxya/
LOCATION:Οξυά Καστοριάς\, Οξυά\, Καστοριά\, Greece
END:VEVENT
END:VCALENDAR