BEGIN:VCALENDAR
VERSION:2.0
PRODID:-//Περιφερειακή Ενότητα Καστοριάς - ECPv6.15.20//NONSGML v1.0//EN
CALSCALE:GREGORIAN
METHOD:PUBLISH
X-WR-CALNAME:Περιφερειακή Ενότητα Καστοριάς
X-ORIGINAL-URL:https://kastoria.pdm.gov.gr
X-WR-CALDESC:Events for Περιφερειακή Ενότητα Καστοριάς
REFRESH-INTERVAL;VALUE=DURATION:PT1H
X-Robots-Tag:noindex
X-PUBLISHED-TTL:PT1H
BEGIN:VTIMEZONE
TZID:Europe/Athens
BEGIN:DAYLIGHT
TZOFFSETFROM:+0200
TZOFFSETTO:+0300
TZNAME:EEST
DTSTART:20240331T010000
END:DAYLIGHT
BEGIN:STANDARD
TZOFFSETFROM:+0300
TZOFFSETTO:+0200
TZNAME:EET
DTSTART:20241027T010000
END:STANDARD
BEGIN:DAYLIGHT
TZOFFSETFROM:+0200
TZOFFSETTO:+0300
TZNAME:EEST
DTSTART:20250330T010000
END:DAYLIGHT
BEGIN:STANDARD
TZOFFSETFROM:+0300
TZOFFSETTO:+0200
TZNAME:EET
DTSTART:20251026T010000
END:STANDARD
BEGIN:DAYLIGHT
TZOFFSETFROM:+0200
TZOFFSETTO:+0300
TZNAME:EEST
DTSTART:20260329T010000
END:DAYLIGHT
BEGIN:STANDARD
TZOFFSETFROM:+0300
TZOFFSETTO:+0200
TZNAME:EET
DTSTART:20261025T010000
END:STANDARD
END:VTIMEZONE
BEGIN:VEVENT
DTSTART;TZID=Europe/Athens:20250730T200000
DTEND;TZID=Europe/Athens:20250730T233000
DTSTAMP:20260425T032146
CREATED:20250625T054339Z
LAST-MODIFIED:20250625T054339Z
UID:37068-1753905600-1753918200@kastoria.pdm.gov.gr
SUMMARY:30 Ιουλίου| 4η Γιορτή Τομάτας – Φωτεινή Καστοριάς
DESCRIPTION:Ο Πολιτιστικός  Σύλλογος Φωτεινής σας προσκαλεί και φέτος στην 4η Γιορτή Τομάτας\, τη μοναδική γιορτή αφιερωμένη στην τομάτα στην Π.Ε. Καστοριάς! \nΈνα γιορτινό βράδυ γεμάτο: \n– Τοπικά προϊόντα και γεύσεις βασισμένες στην τομάτα-Παρουσίαση παραγωγών και επιχειρήσεων του τόπου μας-Παραδοσιακά χορευτικά και ήχοι από ζωντανή παραδοσιακή ορχήστρα \n*Στηρίζουμε τον τόπο μας\, αναδεικνύουμε τα τοπικά προϊόντα και κρατάμε ζωντανά τα έθιμά μας! \n* Μη χάσετε τη μοναδική ευκαιρία να γιορτάσουμε όλοι μαζί με γεύση\, μουσική και παράδοση!
URL:https://kastoria.pdm.gov.gr/event/30-iouliou-4i-giorti-tomatas-foteini-kastorias/
LOCATION:Κεντρική Πλατεία Φωτεινής\, Φωτεινή Καστοριάς\, Greece
END:VEVENT
END:VCALENDAR