BEGIN:VCALENDAR
VERSION:2.0
PRODID:-//Περιφερειακή Ενότητα Καστοριάς - ECPv6.15.20//NONSGML v1.0//EN
CALSCALE:GREGORIAN
METHOD:PUBLISH
X-WR-CALNAME:Περιφερειακή Ενότητα Καστοριάς
X-ORIGINAL-URL:https://kastoria.pdm.gov.gr
X-WR-CALDESC:Events for Περιφερειακή Ενότητα Καστοριάς
REFRESH-INTERVAL;VALUE=DURATION:PT1H
X-Robots-Tag:noindex
X-PUBLISHED-TTL:PT1H
BEGIN:VTIMEZONE
TZID:Europe/Athens
BEGIN:DAYLIGHT
TZOFFSETFROM:+0200
TZOFFSETTO:+0300
TZNAME:EEST
DTSTART:20240331T010000
END:DAYLIGHT
BEGIN:STANDARD
TZOFFSETFROM:+0300
TZOFFSETTO:+0200
TZNAME:EET
DTSTART:20241027T010000
END:STANDARD
BEGIN:DAYLIGHT
TZOFFSETFROM:+0200
TZOFFSETTO:+0300
TZNAME:EEST
DTSTART:20250330T010000
END:DAYLIGHT
BEGIN:STANDARD
TZOFFSETFROM:+0300
TZOFFSETTO:+0200
TZNAME:EET
DTSTART:20251026T010000
END:STANDARD
BEGIN:DAYLIGHT
TZOFFSETFROM:+0200
TZOFFSETTO:+0300
TZNAME:EEST
DTSTART:20260329T010000
END:DAYLIGHT
BEGIN:STANDARD
TZOFFSETFROM:+0300
TZOFFSETTO:+0200
TZNAME:EET
DTSTART:20261025T010000
END:STANDARD
END:VTIMEZONE
BEGIN:VEVENT
DTSTART;TZID=Europe/Athens:20250707T100000
DTEND;TZID=Europe/Athens:20250712T233000
DTSTAMP:20260425T034652
CREATED:20250610T075009Z
LAST-MODIFIED:20250709T101241Z
UID:36705-1751882400-1752363000@kastoria.pdm.gov.gr
SUMMARY:07\,10\,12 Ιουλίου| Γιορτή Παράδοσης στο Χιονάτο!
DESCRIPTION:Ο Πολιτιστικός Σύλλογος Χιονάτου πραγματοποεί τρεις μοναδικές ημέρες γιορτής και παράδοσης\, που θα πραγματοποιηθούν στο  Χιονάτο. \nΑνακαλύψτε τη μαγεία της ζωντανής μουσικής\, την πλούσια τοπική παράδοση στις 07\, 10 και 12 Ιουλίου 2025 \nΟι εκδηλώσεις περιλαμβάνουν: \n\n07/07/2025: Παρασκευή και διάθεση αυθεντικών παραδοσιακών φαγητών\, επιμελημένων από τις γυναίκες του χωριού.\n10/07/2025:  (ΑΝΑΒΑΛΛΕΤΑΙ)Έκθεση παραδοσιακών φορεσιών και στολών από περιοχές της Μικράς Ασίας\, της Κεντρικής Μακεδονίας και του Πόντου.\n12/07/2025: Μουσική εκδήλωση με παρουσίαση και παράσταση από τα χορευτικά συγκροτήματα του συλλόγου και άλλων ομάδων της περιοχής.
URL:https://kastoria.pdm.gov.gr/event/07-12-iouliou-giorti-paradosis-sto-chionato/
LOCATION:Χιονάτο\, Χιονάτο Καστοριάς\, Greece
END:VEVENT
BEGIN:VEVENT
DTSTART;TZID=Europe/Athens:20250711T200000
DTEND;TZID=Europe/Athens:20250712T233000
DTSTAMP:20260425T034652
CREATED:20250605T062850Z
LAST-MODIFIED:20250708T053723Z
UID:36670-1752264000-1752363000@kastoria.pdm.gov.gr
SUMMARY:11-12 Ιουλίου| Διήμερες Εκδηλώσεις από την Έυξεινο Λέσχη Άργους Ορεστικού!
DESCRIPTION:Η Εύξεινος Λέσχη Άργους Ορεστικού σας προσκαλεί σε υπαίθριες διήμερες εκδηλώσεις\, που θα πραγματοποιηθούν στις 11 και 12 Ιουλίου στο Νέο Πάρκο Άργους Ορεστικού. Οι εκδηλώσεις είναι ανοιχτές για όλο τον κόσμο και αποτελούν μια γιορτή αφιερωμένη στην ποντιακή παράδοση. \nΚατά τη διάρκεια των εκδηλώσεων\, θα παρουσιαστούν χορευτικά τμήματα της Λέσχης\, τα οποία θα αναβιώσουν τη γνήσια ποντιακή παράδοση μέσα από αυθεντικούς πατροπαράδοτους χορούς\, με τη συνοδεία ζωντανής μουσικής. Μετά την παράσταση\, θα ακολουθήσει παραδοσιακό γλέντι\, όπου όλοι οι παρευρισκόμενοι θα έχουν την ευκαιρία να συμμετάσχουν. \nΗ Περιφερειακή Ενότητα Καστοριάς στηρίζει έμπρακτα την πρωτοβουλία αυτή\, αναγνωρίζοντας τη σπουδαιότητα της διατήρησης και ανάδειξης της άυλης πολιτιστικής μας κληρονομιάς.
URL:https://kastoria.pdm.gov.gr/event/11-12-iouliou-diimeres-ekdiloseis-apo-tin-eyxeino-leschi-argous-orestikou/
LOCATION:Νέο Πάρκο Άργους Ορεστικού\, Άργος Ορεστικό\, Greece
ATTACH;FMTTYPE=image/jpeg:https://kastoria.pdm.gov.gr/wp-content/uploads/2025/07/euxinos_ao.jpg
END:VEVENT
BEGIN:VEVENT
DTSTART;TZID=Europe/Athens:20250712T080000
DTEND;TZID=Europe/Athens:20250712T180000
DTSTAMP:20260425T034652
CREATED:20250604T100233Z
LAST-MODIFIED:20250710T104332Z
UID:36659-1752307200-1752343200@kastoria.pdm.gov.gr
SUMMARY:12 Ιουλίου | Ποδηλατικό Brevet Καστοριάς ο  "Δρόμος της Μνήμης"
DESCRIPTION: Ο Ποδηλατικός Σύλλογος Καστοριάς «620» διοργανώνει για 9η φορά το Brevet Καστοριάς 200 χλμ\, με τίτλο «Δρόμος της Μνήμης»\, το Σάββατο 12 Ιουλίου 2025! \nΜια ποδηλατική διαδρομή που διασχίζει μοναδικά τοπία και ιστορικούς οικισμούς της περιοχής μας\, προωθώντας την ποδηλασία ως μέσο μετακίνησης και τρόπο ζωής. \nΗ Περιφερειακή Ενότητα Καστοριάς στηρίζει ενεργά αυτή τη διεθνή διοργάνωση\, που προσελκύει αθλητές από όλη την Ελλάδα και το εξωτερικό\, ενισχύει τον αθλητικό τουρισμό και προβάλλει τον τόπο μας ως προορισμό βιώσιμου και εναλλακτικού τουρισμού. \nΕλάτε να ζήσουμε μαζί την εμπειρία του Brevet και να τιμήσουμε τη φυσική ομορφιά και την ιστορία της Καστοριάς! \nΔιαδρομή της Καστοριάς: Πάρκο Ολυμπιακής Φλόγας Καστοριάς\, θα κινηθούν στον μικρό γύρο λίμνης\, θα συνεχίσουν προς Μανιάκοι\, Δασάκι Μεσοποταμίας\, Νεστόριο\, Μελάνθιο\, Πετροπουλάκι\, Φράγμα Βράχου\, Βράχος\, Λάγκα\, Άργος Ορεστικό\, Κωσταράζι\, Βογατσικό\, Γέρμα\, Βλάστη\, κλεισούρα και επιστροφή προς Καστοριά με τερματισμό στο Πάρκο Ολυμπιακής Φλόγας Καστοριάς.
URL:https://kastoria.pdm.gov.gr/event/12-iouliou-podilatiko-brevet-kastorias-o-dromos-tis-mnimis/
LOCATION:Πάρκο Ολυμπιακής Φλόγας Καστοριάς\, Καστοριά\, Greece
ATTACH;FMTTYPE=image/jpeg:https://kastoria.pdm.gov.gr/wp-content/uploads/2025/06/brevet_2025_poster_290525-scaled.jpg
END:VEVENT
END:VCALENDAR