BEGIN:VCALENDAR
VERSION:2.0
PRODID:-//Περιφερειακή Ενότητα Καστοριάς - ECPv6.15.20//NONSGML v1.0//EN
CALSCALE:GREGORIAN
METHOD:PUBLISH
X-WR-CALNAME:Περιφερειακή Ενότητα Καστοριάς
X-ORIGINAL-URL:https://kastoria.pdm.gov.gr
X-WR-CALDESC:Events for Περιφερειακή Ενότητα Καστοριάς
REFRESH-INTERVAL;VALUE=DURATION:PT1H
X-Robots-Tag:noindex
X-PUBLISHED-TTL:PT1H
BEGIN:VTIMEZONE
TZID:Europe/Athens
BEGIN:DAYLIGHT
TZOFFSETFROM:+0200
TZOFFSETTO:+0300
TZNAME:EEST
DTSTART:20240331T010000
END:DAYLIGHT
BEGIN:STANDARD
TZOFFSETFROM:+0300
TZOFFSETTO:+0200
TZNAME:EET
DTSTART:20241027T010000
END:STANDARD
BEGIN:DAYLIGHT
TZOFFSETFROM:+0200
TZOFFSETTO:+0300
TZNAME:EEST
DTSTART:20250330T010000
END:DAYLIGHT
BEGIN:STANDARD
TZOFFSETFROM:+0300
TZOFFSETTO:+0200
TZNAME:EET
DTSTART:20251026T010000
END:STANDARD
BEGIN:DAYLIGHT
TZOFFSETFROM:+0200
TZOFFSETTO:+0300
TZNAME:EEST
DTSTART:20260329T010000
END:DAYLIGHT
BEGIN:STANDARD
TZOFFSETFROM:+0300
TZOFFSETTO:+0200
TZNAME:EET
DTSTART:20261025T010000
END:STANDARD
END:VTIMEZONE
BEGIN:VEVENT
DTSTART;TZID=Europe/Athens:20250623T190000
DTEND;TZID=Europe/Athens:20250709T233000
DTSTAMP:20260425T172530
CREATED:20250528T062230Z
LAST-MODIFIED:20250612T075935Z
UID:36425-1750705200-1752103800@kastoria.pdm.gov.gr
SUMMARY:23 Ιουνίου-09 Ιουλίου| Χριστοπούλεια 2025 στην Καστοριά
DESCRIPTION:Ο Πολιτιστικός Σύλλογος Καστοριάς «Αθανάσιος Χριστόπουλος» ανακοινώνει το πρόγραμμα των Χριστοπούλειων 2025\, ενός θεσμού αφιερωμένου στην αναβίωση της παράδοσης αλλά και στην ανάδειξη σύγχρονων πολιτιστικών εκφράσεων. Το πρόγραμμα περιλαμβάνει μια πλούσια ποικιλία εκδηλώσεων με θέατρο\, μουσική\, χορό και εικαστικά\, παρουσιάζοντας τη δυναμική του τοπικού πολιτιστικού γίγνεσθαι. Η Περιφερειακή Ενότητα Καστοριάς στέκεται για άλλη μια χρονιά αρωγός στην προσπάθεια του συλλόγου. \n  \nΠρόγραμμα Εκδηλώσεων «Χριστοπούλεια 2025»:\n  \n23 Ιουνίου 2025\nΘέατρο Βουνού Καστοριάς \nΠαρουσίαση της θεατρικής παράστασης «Βάκχες» από το Μουσικό Σχολείο Καστοριάς. \nΗ παράσταση συμμετείχε με επιτυχία στο Νεανικό Φεστιβάλ Αρχαίου Θεάτρου Μεσσήνης. \n  \n30 Ιουνίου 2025\nΑυλή Μουσείου Μακεδονικού Αγώνα \nΠαράσταση της Έντεχνης Χορωδίας «Καστοριανόν Άσμα» \nΑφιέρωμα στον μεγάλο Έλληνα συνθέτη Μίμη Πλέσσα. \n  \n2 Ιουλίου 2025\nΘέατρο Βουνού Καστοριάς \nΠαράσταση της Λαϊκορεμπέτικης Χορωδίας του συλλόγου \nΑφιέρωμα στον Μίκη Θεοδωράκη\, για τα 100 χρόνια από τη γέννησή του. \n  \n8 Ιουλίου 2025\nΘέατρο Ολυμπιακής Φλόγας Κατοριάς \nΠαράσταση του Χορευτικού Τμήματος σε συνεργασία με το Παιδικό Θεατρικό Παιχνίδι \nΘέμα: Η Αργοναυτική Εκστρατεία \n  \n9 Ιουλίου 2025\nΠλατεία Παναγίας Κουμπελίδικης \nΠαράσταση της Παραδοσιακής Χορωδίας & του Χορευτικού Τμήματος \nΜουσικό ταξίδι σε όλη την Ελλάδα. \n  \nΈκθεση Εικαστικών\nΑρχοντικό Μπασάρα \nΈκθεση έργων μαθητών του Τμήματος Εικαστικών του συλλόγου. \nΔιάρκεια έκθεσης και ώρες λειτουργίας θα ανακοινωθούν σύντομα.
URL:https://kastoria.pdm.gov.gr/event/23-iouniou-09-iouliou-christopouleia-2025-stin-kastoria/
LOCATION:Καστοριά\, Καστοριά\, Greece
ATTACH;FMTTYPE=image/jpeg:https://kastoria.pdm.gov.gr/wp-content/uploads/2025/05/xristopoulia1.jpg
END:VEVENT
BEGIN:VEVENT
DTSTART;TZID=Europe/Athens:20250705T103000
DTEND;TZID=Europe/Athens:20250706T160000
DTSTAMP:20260425T172530
CREATED:20250509T193253Z
LAST-MODIFIED:20250605T173951Z
UID:35893-1751711400-1751817600@kastoria.pdm.gov.gr
SUMMARY:05-06 Ιουλίου| 3η Έκθεση Ιστορικών Οχημάτων Καστοριάς
DESCRIPTION:Η Ομάδα Κλασικών Οχημάτων Καστοριάς (Ο.ΚΛ.Ο.Κ.)\, με τη στήριξη της Περιφερειακής Ενότητας Καστοριάς\, διοργανώνει για τρίτη συνεχόμενη χρονιά την Έκθεση Ιστορικών Οχημάτων Καστοριάς\, η οποία θα πραγματοποιηθεί το Σαββατοκύριακο 5-6 Ιουλίου 2025 στο δημοτικό χώρο στάθμευσης (Λαϊκή Αγορά) της πόλης. \nΗ έκθεση θα φιλοξενήσει ιστορικά οχήματα από διάφορες πόλεις της Ελλάδας\, με συμμετοχές από συλλόγους και ιδιώτες που εκτιμούν και συντηρούν κλασικά και ιστορικά αυτοκίνητα. Η εκδήλωση αναμένεται να συγκεντρώσει το σύνολο σχεδόν των ιστορικών οχημάτων του Νομού\, ενώ συμμετοχές από τη Βόρεια και Κεντρική Ελλάδα εκτιμώνται με βάση τη δυναμική του χώρου των κλασικών οχημάτων. \nΜε την αυξανόμενη δυναμική του κόσμου των κλασικών και ιστορικών οχημάτων και την ολοένα και μεγαλύτερη συμμετοχή στην Ελλάδα και το εξωτερικό\, η έκθεση αποτελεί μια γιορτή για τους φίλους των αυτοκινήτων και της ιστορίας τους\, ενισχύοντας ταυτόχρονα και τον τουρισμό της περιοχής.
URL:https://kastoria.pdm.gov.gr/event/05-06-iouliou-3i-ekthesi-istorikon-ochimaton-kastorias/
LOCATION:Δημοτικός Χώρος Στάθμευσης (Λαϊκή Αγορά)\, Καστοριά\, Καστοριά\, Greece
ATTACH;FMTTYPE=image/jpeg:https://kastoria.pdm.gov.gr/wp-content/uploads/2025/06/classis_vihicles.jpg
END:VEVENT
BEGIN:VEVENT
DTSTART;TZID=Europe/Athens:20250705T173000
DTEND;TZID=Europe/Athens:20250706T233000
DTSTAMP:20260425T172530
CREATED:20250612T071150Z
LAST-MODIFIED:20250612T071150Z
UID:36759-1751736600-1751844600@kastoria.pdm.gov.gr
SUMMARY:05-06 Ιουλίου| Πολιτιστικές-Λατρευτικές Εκδηλώσεις στην Χλόη Καστοριάς!
DESCRIPTION:Το Σωματείο «Κέντρο Δράσης και Προσφοράς» σας καλεί στις 5 & 6 Ιουλίου στον κυκλικό κόμβο απέναντι από τον Ι.Ν. Αγίου Νικάνορος στη Χλόη. \nΈνα διήμερο  που συνδυάζει τις λατρευτικές εκδηλώσεις  με την παράδοση! \nΜια γνήσια λαϊκή γιορτή που θα μας φέρει πιο κοντά στις ρίζες μας. Μην το χάσετε!
URL:https://kastoria.pdm.gov.gr/event/05-06-iouliou-politistikes-latreftikes-ekdiloseis-stin-chloi-kastorias/
LOCATION:Περιοχή Χλόη\, Χλόη Καστοριάς\, Greece
END:VEVENT
BEGIN:VEVENT
DTSTART;TZID=Europe/Athens:20250706T080000
DTEND;TZID=Europe/Athens:20250706T170000
DTSTAMP:20260425T172530
CREATED:20250530T082837Z
LAST-MODIFIED:20250703T094447Z
UID:36538-1751788800-1751821200@kastoria.pdm.gov.gr
SUMMARY:06 Ιουλίου| Grand Prix Στίβου στο Άργος Ορεστικό!
DESCRIPTION:Ο Φιλαθλητικός Σύλλογος Άργους Ορεστικού  διοργανώνει και εφέτος Διεθνές Grand Prix Στίβου στο Δημοτικό Αθλητικό Κέντρο Άργους Ορεστικού\, την Κυριακή 06 Ιουλίου 2025. Η διοργάνωση αυτών των αγώνων κλασικού αθλητισμού ξεκίνησαν να υλοποιούνται  με τη μορφή Πανελληνίου\, από το 2006 και είναι μια ευκαιρία για τους νέους να παρακολουθήσουν από κοντά αγώνες υψηλού επιπέδου. \nΗ Περιφερειακή Ενότητα Καστοριάς συμμετέχει ενεργά και στηρίζει έμπρακτα για ακόμη μία χρονιά τις αθλητικές εκδηλώσεις του τόπου μας\, αναγνωρίζοντας τη σημασία του αθλητισμού στην ανάπτυξη της τοπικής κοινωνίας\, την ενίσχυση της εξωστρέφειας και την προώθηση του υγιούς τρόπου ζωής.
URL:https://kastoria.pdm.gov.gr/event/06-iouliou-grand-prix-stivou-sto-argos-orestiko/
LOCATION:Δημοτικό Αθλητικό Κέντρο Άργους Ορεστκού\, Άργος Ορεστικό\, Greece
ATTACH;FMTTYPE=image/png:https://kastoria.pdm.gov.gr/wp-content/uploads/2025/07/Χωρίς-τίτλο.png
END:VEVENT
BEGIN:VEVENT
DTSTART;TZID=Europe/Athens:20250706T100000
DTEND;TZID=Europe/Athens:20250706T233000
DTSTAMP:20260425T172530
CREATED:20250521T102948Z
LAST-MODIFIED:20250703T110911Z
UID:36222-1751796000-1751844600@kastoria.pdm.gov.gr
SUMMARY:6 Ιουλίου | Black Mountain Festival Μανιάκοι Καστοριάς
DESCRIPTION:Ο Σύλλογος Φίλων Περιβάλλοντος Μανιάκων Καστοριάς διοργανώνει το Black Mountain Festival την Κυριακή 6 Ιουλίου\, στον χώρο του «Προπολεμικού Πεδίου Βολής» Καστοριάς στο Μανιάκοι (Black Mountain). \nΤο φεστιβάλ περιλαμβάνει: \n\nΠρωινές δραστηριότητες: αθλοπαιδιές με συμμετοχή του ΚΔΑΠ ΑμεΑ\, οργανωμένους περιπάτους στο βουνό\, βόλτες με άλογα και συμμετοχή πολιτιστικών και αθλητικών συλλόγων. Η δράση υποστηρίζεται από τον Ερυθρό Σταυρό και άλλους εθελοντικούς φορείς.\nΒραδινή μουσική εκδήλωση: ανοιχτή για όλους τους πολίτες\, με μουσικά σχήματα και ζωντανή ατμόσφαιρα.\n\n✨Η Π.Ε. Καστοριάς ενισχύει σταθερά τις πολιτιστικές δράσεις που προάγουν τον εθελοντισμό\, τον πολιτισμό και την επαφή με τη φύση\, συμβάλλοντας στη συνοχή και την ενεργοποίηση της τοπικής κοινωνίας.✨
URL:https://kastoria.pdm.gov.gr/event/6-iouliou-black-mountain-festival-stous-maniakous-kastorias/
LOCATION:Καστοριά\, Καστοριά\, Greece
ATTACH;FMTTYPE=image/jpeg:https://kastoria.pdm.gov.gr/wp-content/uploads/2025/07/BLACK-MOUNTAIN-FESTIVAL.jpg
END:VEVENT
BEGIN:VEVENT
DTSTART;TZID=Europe/Athens:20250706T200000
DTEND;TZID=Europe/Athens:20250706T233000
DTSTAMP:20260425T172530
CREATED:20250530T080411Z
LAST-MODIFIED:20250610T053449Z
UID:36531-1751832000-1751844600@kastoria.pdm.gov.gr
SUMMARY:06-07 Ιουλίου| Υπαίθριες Πολιτιστικές Εκδηλώσεις στην Αγία Κυριακή!
DESCRIPTION:Ο Πολιτιστικός Σύλλογος Αγίας Κυριακής θα πραγματοποιήσει υπαίθριες πολιτιστικές εκδηλώσεις στις 6 και 7 Ιουλίου\, στην πλατεία του χωριού. \nΟι εκδηλώσεις\, αφιερωμένες στην ανάδειξη της ποντιακής παράδοσης\, περιλαμβάνουν ζωντανή παρουσίαση παραδοσιακής ποντιακής μουσικής\, επίδειξη αυθεντικών χορών του Πόντου\, καθώς και γευστική εμπειρία παραδοσιακών εδεσμάτων\, προσφορά του Συλλόγου προς όλους τους παρευρισκόμενους. \nΗ ΠΕ  Καστοριάς στηρίζει έμπρακτα κάθε προσπάθεια διατήρησης και προβολής της πολιτιστικής κληρονομιάς του τόπου μας\, καθώς αποτελεί ευκαιρία για ενίσχυση της τοπικής ταυτότητας\, της κοινωνικής συνοχής και της πολιτιστικής συνέχειας των νέων γενεών.
URL:https://kastoria.pdm.gov.gr/event/06-07-iouliou-ypaithries-politistikes-ekdiloseis-stin-agia-kyriaki/
LOCATION:Αγία Κυριακή\, Αγία Κυριακή\, Καστοριά\, Greece
END:VEVENT
END:VCALENDAR