BEGIN:VCALENDAR
VERSION:2.0
PRODID:-//Περιφερειακή Ενότητα Καστοριάς - ECPv6.15.20//NONSGML v1.0//EN
CALSCALE:GREGORIAN
METHOD:PUBLISH
X-WR-CALNAME:Περιφερειακή Ενότητα Καστοριάς
X-ORIGINAL-URL:https://kastoria.pdm.gov.gr
X-WR-CALDESC:Events for Περιφερειακή Ενότητα Καστοριάς
REFRESH-INTERVAL;VALUE=DURATION:PT1H
X-Robots-Tag:noindex
X-PUBLISHED-TTL:PT1H
BEGIN:VTIMEZONE
TZID:Europe/Athens
BEGIN:DAYLIGHT
TZOFFSETFROM:+0200
TZOFFSETTO:+0300
TZNAME:EEST
DTSTART:20240331T010000
END:DAYLIGHT
BEGIN:STANDARD
TZOFFSETFROM:+0300
TZOFFSETTO:+0200
TZNAME:EET
DTSTART:20241027T010000
END:STANDARD
BEGIN:DAYLIGHT
TZOFFSETFROM:+0200
TZOFFSETTO:+0300
TZNAME:EEST
DTSTART:20250330T010000
END:DAYLIGHT
BEGIN:STANDARD
TZOFFSETFROM:+0300
TZOFFSETTO:+0200
TZNAME:EET
DTSTART:20251026T010000
END:STANDARD
BEGIN:DAYLIGHT
TZOFFSETFROM:+0200
TZOFFSETTO:+0300
TZNAME:EEST
DTSTART:20260329T010000
END:DAYLIGHT
BEGIN:STANDARD
TZOFFSETFROM:+0300
TZOFFSETTO:+0200
TZNAME:EET
DTSTART:20261025T010000
END:STANDARD
END:VTIMEZONE
BEGIN:VEVENT
DTSTART;TZID=Europe/Athens:20250620T120000
DTEND;TZID=Europe/Athens:20250622T233000
DTSTAMP:20260425T194657
CREATED:20250514T082318Z
LAST-MODIFIED:20250514T092632Z
UID:36048-1750420800-1750635000@kastoria.pdm.gov.gr
SUMMARY:20-21-22 Ιουνίου 2025 | Γιορτή Καστοριανού Ψαριού στην Πλατεία Αποζάρι
DESCRIPTION:Ο Πολιτιστικός Εξωραϊστικός Σύλλογος Καστοριάς «Το Αποζάρι» διοργανώνει την Γιορτή Καστοριανού Ψαριού που θα περιλαμβάνει μια σειρά από πολιτιστικές εκδηλώσεις στις 20\, 21 και 22 Ιουνίου 2025 στην πλατεία Αποζάρι. \n \nΟι εκδηλώσεις θα ξεκινήσουν:  \n Την Παρασκευή 20 Ιουνίου με δράσεις που θα επικεντρωθούν στη λίμνη και το περιβάλλον της\, ενώ το βράδυ θα ακολουθήσει μουσική εκδήλωση με τον  Ντίμτσιο Παναγιώτη και την ορχήστρα του. \n Το Σάββατο 21 Ιουνίου οι δράσεις θα περιλαμβάνουν τηγάνισμα ψαριών από τη λίμνη\, τα οποία θα διανεμηθούν δωρεάν στον κόσμο. Στη συνέχεια\, θα ακολουθήσει μουσική βραδιά με το μουσικό σχήμα «Το Πεντάγραμο». \n Την Κυριακή 22 Ιουνίου θα πραγματοποιηθεί διαγωνισμός ψαρέματος\, με βραβεία και αναμνηστικά για τους νικητές. \nΜέσα από αυτές τις πρωτοβουλίες\, ενισχύεται η σημασία της λίμνης\, του ψαρέματος και των τοπικών παραδόσεων. \n✨Η Περιφερειακή Ενότητα Καστοριάς συμμετέχει και στηρίζει τις πολιτιστικές δράσεις που προάγουν την παράδοση\, την κοινωνική συνοχή και την ενεργή συμμετοχή των πολιτών. ✨
URL:https://kastoria.pdm.gov.gr/event/20-21-22-iouniou-2025-giorti-kastorianou-psariou-stin-plateia-apozari/
LOCATION:Πλατεία Αποζάρι Καστοριάς\, Καστοριά\, Greece
END:VEVENT
BEGIN:VEVENT
DTSTART;TZID=Europe/Athens:20250620T200000
DTEND;TZID=Europe/Athens:20250622T230000
DTSTAMP:20260425T194657
CREATED:20250509T192335Z
LAST-MODIFIED:20250616T063409Z
UID:35886-1750449600-1750633200@kastoria.pdm.gov.gr
SUMMARY:20-22 Ιουνίου| "Λιμνωδία" Πανελλήνιο Μουσικό Χορωδιακό Φεστιβάλ στο Μαυροχώρι Καστοριάς
DESCRIPTION:Ο Πολιτιστικός Σύλλογος Καστοριάς «Βασίλειος Δόικος»\, για δεύτερη φορά\, διοργανώνει το πανελλήνιο μουσικό χορωδιακό φεστιβάλ με τίτλο «Λιμνωδία»\, το οποίο θα πραγματοποιηθεί στις 20-21-22 Ιουνίου 2025\, στην αυλή του Γυμνασίου Μαυροχωρίου Καστοριάς. \nΤο φεστιβάλ αναμένεται να φιλοξενήσει 22 παιδικές και νεανικές χορωδίες\, μεταξύ των οποίων και χορωδίες Ατόμων με Αναπηρία\, από διάφορα μέρη της Ελλάδας\, συμπεριλαμβανομένων πόλεων όπως η Λαμία\, Αλμυρός Βόλου\, Άμφισσα\, Λάρισσα\, Ιτέα\, Θήβα\, Γερβενά\, Κοζάνη\, Μαλεσία\, Έδεσσα\, Μέγαρα και πολλές άλλες. \nΑυτή η τριήμερη εκδήλωση θα περιλαμβάνει μουσικές παρουσιάσεις\, όπου οι χορωδίες θα ερμηνεύσουν τραγούδια από το ελληνικό και διεθνές ρεπερτόριο\, δημιουργώντας μια γιορτινή και εορταστική ατμόσφαιρα στην περιοχή. \n Η Π.Ε. Καστοριάς στηρίζει και ενθαρρύνει τη διοργάνωση αυτής της ιδιαίτερα σημαντικής μουσικής γιορτής\, που προάγει την τέχνη και την κοινωνική συμμετοχή\, υπογραμμίζοντας την ένταξη των ατόμων με αναπηρία στον πολιτιστικό διάλογο. \nΟι χορωδίες που συμμετέχουν\, σύμφωνα με τα σημερινά δεδομένα: \n\nΝιγρίτα Σερρών ενηλίκων\nΛάρισα\nΠαιδική χορωδία Δήμου Λάρισας\nΆργος Ορεστικό\nΓρεβενά\nΧορωδία ενηλίκων  Ι.Μ.Γρεβενών \n  Μεσοποταμία Καστοριάς\n Ιτέα (Φωκίδα)\n Θεσσαλονίκη\nΆμφισσα (Δήμος Δελφών)\n Μαλεσίνα (Φθιώτιδας)\nΤρίκαλα\nΑλμυρός Βόλου\n  Καστοριά\nΚιθαριστικό Σύνολο\nΈδεσσα\n Αγιά Λαρίσης\n  Κοζάνη\nΦλώρινα Δημοτική Μπάντα και πολλές της Καστοριάς
URL:https://kastoria.pdm.gov.gr/event/20-22-iouniou-limnodia-panellinio-mousiko-chorodiako-festival-sto-mavrochori-kastorias/
LOCATION:Αυλή Γυμνασίου Μαυροχωρίου\, Καστοριά\, Μαυροχώρι Καστοριάς\, Greece
ATTACH;FMTTYPE=image/jpeg:https://kastoria.pdm.gov.gr/wp-content/uploads/2025/05/afisa_Doikos.jpg
END:VEVENT
END:VCALENDAR