BEGIN:VCALENDAR
VERSION:2.0
PRODID:-//Περιφερειακή Ενότητα Καστοριάς - ECPv6.15.20//NONSGML v1.0//EN
CALSCALE:GREGORIAN
METHOD:PUBLISH
X-ORIGINAL-URL:https://kastoria.pdm.gov.gr
X-WR-CALDESC:Events for Περιφερειακή Ενότητα Καστοριάς
REFRESH-INTERVAL;VALUE=DURATION:PT1H
X-Robots-Tag:noindex
X-PUBLISHED-TTL:PT1H
BEGIN:VTIMEZONE
TZID:Europe/Athens
BEGIN:DAYLIGHT
TZOFFSETFROM:+0200
TZOFFSETTO:+0300
TZNAME:EEST
DTSTART:20240331T010000
END:DAYLIGHT
BEGIN:STANDARD
TZOFFSETFROM:+0300
TZOFFSETTO:+0200
TZNAME:EET
DTSTART:20241027T010000
END:STANDARD
BEGIN:DAYLIGHT
TZOFFSETFROM:+0200
TZOFFSETTO:+0300
TZNAME:EEST
DTSTART:20250330T010000
END:DAYLIGHT
BEGIN:STANDARD
TZOFFSETFROM:+0300
TZOFFSETTO:+0200
TZNAME:EET
DTSTART:20251026T010000
END:STANDARD
BEGIN:DAYLIGHT
TZOFFSETFROM:+0200
TZOFFSETTO:+0300
TZNAME:EEST
DTSTART:20260329T010000
END:DAYLIGHT
BEGIN:STANDARD
TZOFFSETFROM:+0300
TZOFFSETTO:+0200
TZNAME:EET
DTSTART:20261025T010000
END:STANDARD
END:VTIMEZONE
BEGIN:VEVENT
DTSTART;TZID=Europe/Athens:20250619T190000
DTEND;TZID=Europe/Athens:20250620T233000
DTSTAMP:20260425T200109
CREATED:20250507T091250Z
LAST-MODIFIED:20250520T090414Z
UID:35740-1750359600-1750462200@kastoria.pdm.gov.gr
SUMMARY:19-20 Ιουνίου| Φεστιβάλ Παραδοσιακών Χορών και Πολιτισμού στον χώρο της Εμποροπανήγυρης στη Μεσοποταμία.
DESCRIPTION:Ο Πολιτιστικός Σύλλογος Παραδοσιακών Μακεδονικών Χορών Μεσοποταμίας «Ο Άγιος Δημήτριος»\, διοργανώνει Φεστιβάλ Παραδοσιακών Χορών και Πολιτισμού\, στις 19 & 20 Ιουνίου\, στον χώρο της Εμποροπανήγυρης στη Μεσοποταμία. \n \nΟι εκδηλώσεις θα πλαισιωθούν από παραδοσιακή ορχήστρα και τοπικούς χορούς\, αποτελώντας γιορτή για μικρούς και μεγάλους. Παράλληλα\, θα γίνει παρουσίαση παλιών φωτογραφιών και αντικειμένων που έχουν παραχωρηθεί από τα μέλη του Συλλόγου\, τιμώντας την ιστορία και την πολιτιστική κληρονομιά του τόπου. \n✨ Η Π.Ε. Καστοριάς στηρίζει δράσεις που ενώνουν την τοπική κοινωνία και προωθούν τη διατήρηση της πολιτιστικής μας ταυτότητας\, αναδεικνύοντας τα ήθη\, τα έθιμα και την ιστορική συνέχεια του τόπου μας.✨
URL:https://kastoria.pdm.gov.gr/event/19-20-iouniou-festival-paradosiakon-choron-kai-politismou-ston-choro-tis-eboropanigyris-sti-mesopotamia/
LOCATION:Στον χώρο της Εμποροπανήγυρης στη Μεσοποταμία\, Μεσοποταμία\, Greece
ATTACH;FMTTYPE=image/jpeg:https://kastoria.pdm.gov.gr/wp-content/uploads/2025/05/Silogos-Mesopotamias-scaled.jpg
END:VEVENT
END:VCALENDAR