BEGIN:VCALENDAR
VERSION:2.0
PRODID:-//Περιφερειακή Ενότητα Καστοριάς - ECPv6.15.20//NONSGML v1.0//EN
CALSCALE:GREGORIAN
METHOD:PUBLISH
X-ORIGINAL-URL:https://kastoria.pdm.gov.gr
X-WR-CALDESC:Events for Περιφερειακή Ενότητα Καστοριάς
REFRESH-INTERVAL;VALUE=DURATION:PT1H
X-Robots-Tag:noindex
X-PUBLISHED-TTL:PT1H
BEGIN:VTIMEZONE
TZID:Europe/Athens
BEGIN:DAYLIGHT
TZOFFSETFROM:+0200
TZOFFSETTO:+0300
TZNAME:EEST
DTSTART:20240331T010000
END:DAYLIGHT
BEGIN:STANDARD
TZOFFSETFROM:+0300
TZOFFSETTO:+0200
TZNAME:EET
DTSTART:20241027T010000
END:STANDARD
BEGIN:DAYLIGHT
TZOFFSETFROM:+0200
TZOFFSETTO:+0300
TZNAME:EEST
DTSTART:20250330T010000
END:DAYLIGHT
BEGIN:STANDARD
TZOFFSETFROM:+0300
TZOFFSETTO:+0200
TZNAME:EET
DTSTART:20251026T010000
END:STANDARD
BEGIN:DAYLIGHT
TZOFFSETFROM:+0200
TZOFFSETTO:+0300
TZNAME:EEST
DTSTART:20260329T010000
END:DAYLIGHT
BEGIN:STANDARD
TZOFFSETFROM:+0300
TZOFFSETTO:+0200
TZNAME:EET
DTSTART:20261025T010000
END:STANDARD
END:VTIMEZONE
BEGIN:VEVENT
DTSTART;TZID=Europe/Athens:20250614T100000
DTEND;TZID=Europe/Athens:20250615T180000
DTSTAMP:20260425T195546
CREATED:20250530T074922Z
LAST-MODIFIED:20250530T075115Z
UID:36524-1749895200-1750010400@kastoria.pdm.gov.gr
SUMMARY:14-15 Ιουνίου| 2ο Πανελλήνιο Τουρνουά Ποδοσφαίρου στην Καστοριά!
DESCRIPTION:Ο Αθλητικός Σύλλογος Καστοριάς 1980 είναι ένα ενεργό σωματείο\, το οποίο αριθμεί 160 αθλητές και αθλήτριες και απασχολεί 8 προπονητές στα τμήματα ποδοσφαίρου και στίβου. Διαθέτει αγωνιστικά τμήματα που συμμετέχουν τόσο σε τοπικό όσο και σε πανελλήνιο επίπεδο. \nΣτις 14 και 15 Ιουνίου\, στο ΔΑΚ Καστοριάς\, ο σύλλογος θα διοργανώσει το 2ο Πανελλήνιο Τουρνουά Ακαδημιών Ποδοσφαίρου για παιδιά ηλικίας 5 έως 12 ετών\, σε μια σημαντική προσπάθεια ανάδειξης του αθλητισμού στην περιοχή μας. Στο τουρνουά αναμένεται η συμμετοχή περίπου 500 μικρών αθλητών από 10 περίπου ομάδες απ’ όλη την Ελλάδα. \nΗ Περιφερειακή Ενότητα Καστοριάς στέκεται αρωγός σε αυτή τη σημαντική πρωτοβουλία\, αναγνωρίζοντας τη σημασία του αθλητισμού για τη νεολαία και τη συμβολή τέτοιων δράσεων στην τουριστική\, πολιτιστική και κοινωνική ανάδειξη της περιοχής.
URL:https://kastoria.pdm.gov.gr/event/14-15-iouniou-2o-panellinio-tournoua-podosfairou-stin-kastoria/
LOCATION:Δημοτικό Αθλητικό Κέντρο Καστοριάς\, Καστοριά\, Greece
ATTACH;FMTTYPE=image/jpeg:https://kastoria.pdm.gov.gr/wp-content/uploads/2025/05/afisa_as-kastorias.jpg
END:VEVENT
END:VCALENDAR