BEGIN:VCALENDAR
VERSION:2.0
PRODID:-//Περιφερειακή Ενότητα Καστοριάς - ECPv6.15.20//NONSGML v1.0//EN
CALSCALE:GREGORIAN
METHOD:PUBLISH
X-ORIGINAL-URL:https://kastoria.pdm.gov.gr
X-WR-CALDESC:Events for Περιφερειακή Ενότητα Καστοριάς
REFRESH-INTERVAL;VALUE=DURATION:PT1H
X-Robots-Tag:noindex
X-PUBLISHED-TTL:PT1H
BEGIN:VTIMEZONE
TZID:Europe/Athens
BEGIN:DAYLIGHT
TZOFFSETFROM:+0200
TZOFFSETTO:+0300
TZNAME:EEST
DTSTART:20240331T010000
END:DAYLIGHT
BEGIN:STANDARD
TZOFFSETFROM:+0300
TZOFFSETTO:+0200
TZNAME:EET
DTSTART:20241027T010000
END:STANDARD
BEGIN:DAYLIGHT
TZOFFSETFROM:+0200
TZOFFSETTO:+0300
TZNAME:EEST
DTSTART:20250330T010000
END:DAYLIGHT
BEGIN:STANDARD
TZOFFSETFROM:+0300
TZOFFSETTO:+0200
TZNAME:EET
DTSTART:20251026T010000
END:STANDARD
BEGIN:DAYLIGHT
TZOFFSETFROM:+0200
TZOFFSETTO:+0300
TZNAME:EEST
DTSTART:20260329T010000
END:DAYLIGHT
BEGIN:STANDARD
TZOFFSETFROM:+0300
TZOFFSETTO:+0200
TZNAME:EET
DTSTART:20261025T010000
END:STANDARD
END:VTIMEZONE
BEGIN:VEVENT
DTSTART;TZID=Europe/Athens:20250613T200000
DTEND;TZID=Europe/Athens:20250614T233000
DTSTAMP:20260425T195552
CREATED:20250514T062739Z
LAST-MODIFIED:20250514T062739Z
UID:36041-1749844800-1749943800@kastoria.pdm.gov.gr
SUMMARY:13-14ΙουνίουΙ Παραδοσιακό Πανηγύρι στο Νταηλάκη Καστοριάς
DESCRIPTION:Ο Πολιτιστικός Σύλλογος  Νταηλάκη  Καστοριάς «Η ΠΡΟΟΔΟΣ»\,  διοργανώσει διήμερο παραδοσιακό πανηγύρι\,στις 13-14Ιουνίου \, με αφορμή την εορτή των Αγίων Πάντων\, που είναι ο ομώνυμος Ιερός Ναός της περιοχής. \nΟι εκδηλώσεις θα γίνουν στο χώρο της παιδικής χαράς στο Νταηλάκη και θα πλαισιωθούν με  ζωντανή παραδοσιακή μουσική. \nΗ Π.Ε. Καστοριάς στέκεται αρωγός στις πολιτιστικές δράσεις που διατηρούν ζωντανή την παράδοση και ενώνουν τις τοπικές κοινωνίες.
URL:https://kastoria.pdm.gov.gr/event/13-14iounioui-paradosiako-panigyri-sto-ntailaki-kastorias/
LOCATION:Παιδική Χαρά στο Νταηλάκη Καστοριάς\, Καστοριά\, Greece
END:VEVENT
BEGIN:VEVENT
DTSTART;TZID=Europe/Athens:20250614T100000
DTEND;TZID=Europe/Athens:20250615T180000
DTSTAMP:20260425T195552
CREATED:20250530T074922Z
LAST-MODIFIED:20250530T075115Z
UID:36524-1749895200-1750010400@kastoria.pdm.gov.gr
SUMMARY:14-15 Ιουνίου| 2ο Πανελλήνιο Τουρνουά Ποδοσφαίρου στην Καστοριά!
DESCRIPTION:Ο Αθλητικός Σύλλογος Καστοριάς 1980 είναι ένα ενεργό σωματείο\, το οποίο αριθμεί 160 αθλητές και αθλήτριες και απασχολεί 8 προπονητές στα τμήματα ποδοσφαίρου και στίβου. Διαθέτει αγωνιστικά τμήματα που συμμετέχουν τόσο σε τοπικό όσο και σε πανελλήνιο επίπεδο. \nΣτις 14 και 15 Ιουνίου\, στο ΔΑΚ Καστοριάς\, ο σύλλογος θα διοργανώσει το 2ο Πανελλήνιο Τουρνουά Ακαδημιών Ποδοσφαίρου για παιδιά ηλικίας 5 έως 12 ετών\, σε μια σημαντική προσπάθεια ανάδειξης του αθλητισμού στην περιοχή μας. Στο τουρνουά αναμένεται η συμμετοχή περίπου 500 μικρών αθλητών από 10 περίπου ομάδες απ’ όλη την Ελλάδα. \nΗ Περιφερειακή Ενότητα Καστοριάς στέκεται αρωγός σε αυτή τη σημαντική πρωτοβουλία\, αναγνωρίζοντας τη σημασία του αθλητισμού για τη νεολαία και τη συμβολή τέτοιων δράσεων στην τουριστική\, πολιτιστική και κοινωνική ανάδειξη της περιοχής.
URL:https://kastoria.pdm.gov.gr/event/14-15-iouniou-2o-panellinio-tournoua-podosfairou-stin-kastoria/
LOCATION:Δημοτικό Αθλητικό Κέντρο Καστοριάς\, Καστοριά\, Greece
ATTACH;FMTTYPE=image/jpeg:https://kastoria.pdm.gov.gr/wp-content/uploads/2025/05/afisa_as-kastorias.jpg
END:VEVENT
BEGIN:VEVENT
DTSTART;TZID=Europe/Athens:20250614T193000
DTEND;TZID=Europe/Athens:20250614T233000
DTSTAMP:20260425T195552
CREATED:20250509T194440Z
LAST-MODIFIED:20250612T073434Z
UID:35900-1749929400-1749943800@kastoria.pdm.gov.gr
SUMMARY:14 Ιουνίου| 2ο Παιδικό Φεστιβάλ Ποντιακών Χορών στην Καστοριά!
DESCRIPTION:Ο  Σύνδεσμος Ποντιακών Σωματείων Δυτικής Μακεδονίας και Ηπείρου διοργανώνει το 2ο Παιδικό Φεστιβάλ Ποντιακών Χορών\, το οποίο θα πραγματοποιηθεί στις 14 Ιουνίου 2025\, στο Πάρκο Ολυμπιακής Φλόγας στην Καστοριά. \nΠρόκειται για μια δράση υψηλής συμβολικής και παιδαγωγικής αξίας\, που δίνει τη δυνατότητα σε παιδικά και εφηβικά χορευτικά σχήματα να παρουσιάσουν χορούς και τραγούδια του Πόντου\, συμβάλλοντας στη μετάδοση της πολιτιστικής ταυτότητας των Ποντίων στις νέες γενιές. \nΜέσα από τη ζωντανή επαφή με τη μουσικοχορευτική παράδοση\, οι νέοι μαθαίνουν να εκτιμούν τις ρίζες τους\, να καλλιεργούν τον σεβασμό για την ιστορία\, να ενισχύουν τη συλλογική μνήμη και να συμμετέχουν ενεργά σε πολιτιστικές δράσεις. \nΗ Π.Ε. Καστοριάς στηρίζει έμπρακτα αυτή την προσπάθεια\, που για πρώτη φορά φιλοξενείται στην περιοχή μας\, αναγνωρίζοντας τη σημασία της διατήρησης της άυλης πολιτιστικής μας κληρονομιάς.
URL:https://kastoria.pdm.gov.gr/event/14-iouniou-2o-paidiko-festival-pontiakon-choron-stin-kastoria/
LOCATION:Πάρκο Ολυμπιακής Φλόγας Καστοριάς\, Καστοριά\, Greece
ATTACH;FMTTYPE=image/jpeg:https://kastoria.pdm.gov.gr/wp-content/uploads/2025/06/spos_afisa.jpg
END:VEVENT
BEGIN:VEVENT
DTSTART;TZID=Europe/Athens:20250614T200000
DTEND;TZID=Europe/Athens:20250614T230000
DTSTAMP:20260425T195552
CREATED:20250509T184620Z
LAST-MODIFIED:20250605T173557Z
UID:35850-1749931200-1749942000@kastoria.pdm.gov.gr
SUMMARY:14 Ιουνίου| Ομιλία για την Αιμοδοσία\,  Μουσείο Μακεδονικού Αγώνα Καστοριάς.
DESCRIPTION:Ο Σύλλογος Εθελοντών Αιμοδοτών Καστοριάς\, στο πλαίσιο των δράσεών του για ενημέρωση\, ευαισθητοποίηση και προσέλκυση νέων Εθελοντών Αιμοδοτών\, διοργανώνει εκδήλωση με αφορμή την Παγκόσμια Ημέρα Εθελοντή Αιμοδότη\, στις 14 Ιουνίου 2025 στην αυλή του Μουσείου Μακεδονικού Αγώνα Καστοριάς. \nΗ εκδήλωση έχει στόχο να προβάλλει τα ευαίσθητα κοινωνικά μηνύματα που σχετίζονται με την αξία του εθελοντισμού\, της αλληλοϋποστήριξης και της προσφοράς στον συνάνθρωπο\, προάγοντας την κοινωνική ευαισθησία και τη συμμετοχή της τοπικής κοινωνίας σε δράσεις αλληλεγγύης και υγείας. \nΗ δράση θα πλαισιωθεί με ζωντανή μουσική\, δημιουργώντας μια γιορτινή και συμμετοχική ατμόσφαιρα\, ενώ στο πλαίσιο της εκδήλωσης θα πραγματοποιηθούν βραβεύσεις εθελοντών αιμοδοτών για την πολύτιμη προσφορά τους. \nΔώσε αίμα. Μοιράσου τη ζωή!
URL:https://kastoria.pdm.gov.gr/event/14-iouniou-omilia-gia-tin-aimodosia-mouseio-makedonikou-agona/
LOCATION:Αύλειος χώρος Μουσείου Μακεδονκού Αγώνα Καστοριάς\, Πηχεών 2\, Καστοριά 521 00\, Καστοριά\, Greece
ATTACH;FMTTYPE=image/jpeg:https://kastoria.pdm.gov.gr/wp-content/uploads/2025/06/aimodosia.jpg
END:VEVENT
END:VCALENDAR