BEGIN:VCALENDAR
VERSION:2.0
PRODID:-//Περιφερειακή Ενότητα Καστοριάς - ECPv6.15.20//NONSGML v1.0//EN
CALSCALE:GREGORIAN
METHOD:PUBLISH
X-ORIGINAL-URL:https://kastoria.pdm.gov.gr
X-WR-CALDESC:Events for Περιφερειακή Ενότητα Καστοριάς
REFRESH-INTERVAL;VALUE=DURATION:PT1H
X-Robots-Tag:noindex
X-PUBLISHED-TTL:PT1H
BEGIN:VTIMEZONE
TZID:Europe/Athens
BEGIN:DAYLIGHT
TZOFFSETFROM:+0200
TZOFFSETTO:+0300
TZNAME:EEST
DTSTART:20240331T010000
END:DAYLIGHT
BEGIN:STANDARD
TZOFFSETFROM:+0300
TZOFFSETTO:+0200
TZNAME:EET
DTSTART:20241027T010000
END:STANDARD
BEGIN:DAYLIGHT
TZOFFSETFROM:+0200
TZOFFSETTO:+0300
TZNAME:EEST
DTSTART:20250330T010000
END:DAYLIGHT
BEGIN:STANDARD
TZOFFSETFROM:+0300
TZOFFSETTO:+0200
TZNAME:EET
DTSTART:20251026T010000
END:STANDARD
BEGIN:DAYLIGHT
TZOFFSETFROM:+0200
TZOFFSETTO:+0300
TZNAME:EEST
DTSTART:20260329T010000
END:DAYLIGHT
BEGIN:STANDARD
TZOFFSETFROM:+0300
TZOFFSETTO:+0200
TZNAME:EET
DTSTART:20261025T010000
END:STANDARD
END:VTIMEZONE
BEGIN:VEVENT
DTSTART;TZID=Europe/Athens:20250529T083000
DTEND;TZID=Europe/Athens:20250601T210000
DTSTAMP:20260425T195549
CREATED:20250501T174443Z
LAST-MODIFIED:20250507T161405Z
UID:35533-1748507400-1748811600@kastoria.pdm.gov.gr
SUMMARY:29 Μαΐου –1 Ιουνίου| 12ο Baja Greece. Η Π.Ε. Καστοριάς στην καρδιά της δράσης!
DESCRIPTION:Η Περιφερειακή Ενότητα Καστοριάς\, στο πλαίσιο της ενίσχυσης του αθλητισμού\, του εναλλακτικού τουρισμού και της εξωστρέφειας της περιοχής\, στηρίζει για ακόμη μια χρονιά έμπρακτα τη διεξαγωγή του 12ου Baja Greece\, ενός σημαντικού διεθνούς αγώνα μηχανοκίνητου αθλητισμού\, που αποτελεί μέρος του FIM Europe Baja Cup και του Πανελλήνιου Κυπέλλου Rally Raid – Baja. \nTo 12o Baja Greece προσμετρά στο Παγκόσμιο και Ευρωπαϊκό Κύπελλο Baja της Διεθνούς Ομοσπονδίας Αυτοκινήτου (FIA) \nΟ αγώνας θα φιλοξενηθεί στην ευρύτερη περιοχή της Δυτικής Μακεδονίας\, με επίκεντρο την πόλη του Άργους Ορεστικού\, προσελκύοντας παγκόσμιες συμμετοχές. Πρόκειται για μια μοναδική διοργάνωση που συνδυάζει την αθλητική πρόκληση με το φυσικό κάλλος της περιοχής\, αναδεικνύοντας τις δυνατότητες του τόπου μας ως ιδανικού προορισμού για δράσεις διεθνούς ενδιαφέροντος. \nΑξίζει να αναφερθεί ότι φέτος για πρώτη χρονιά έχει διαμορφωθεί ειδικός χώρος\, όπου οι θεατές θα μπορούν να παρακολουθήσουν σε γιγαντο-οθόνη τους αγώνες στο Σαλέ του Χιονοδρομικού Κέντρου Βίγλας- Πισοδερίου! \nΗ Π.Ε. Καστοριάς στηρίζει δράσεις όπως το Baja Greece\, καθώς συνδέονται άμεσα με την τουριστική και οικονομική ανάπτυξη\, την ενίσχυση του τοπικού χαρακτήρα και τη δημιουργία θετικών προοπτικών για την τοπική κοινωνία και τη νεολαία. \n12ο Baja Greece- Ένας αγώνας δράσης\, ταχύτητας και αδρεναλίνης έρχεται στην περιοχή!\n\nΤελετή Έναρξης\, 30 Μαΐου στις 20:00\, Πάρκο Εθνικής Αντίστασης Άργος Ορεστικό\nΤελετή Λήξης\, 01 Ιουνίου στις 21:00\, Πάρκο Εθνικής Αντίστασης Άργος Ορεστικό\n\n  \n\nΔείτε την Πρόσκληση στην Τελετή Έναρξης\n\n2025-invitation-gre\n  \n\nΔείτε το Πρόγραμμα του Αγώνα\n\n2025-programme-BAJA-GREECE\n  \n\nΔείτε την Πρόσκληση για το Σαλέ του Χιονοδρομικού Κέντρου Βίγλας- Πισοδερίου!\n\n2025-invitation-pisoderi-gr\n 
URL:https://kastoria.pdm.gov.gr/event/29-maiou-1-iouniou-12o-baja-greece-i-p-e-kastorias-stin-kardia-tis-drasis/
LOCATION:Πάρκο Εθνικής Αντίστασης\, Άργος Ορεστικό\, Άργος Ορεστικό\, Greece
ATTACH;FMTTYPE=image/jpeg:https://kastoria.pdm.gov.gr/wp-content/uploads/2025/04/baja-greece.jpg
END:VEVENT
BEGIN:VEVENT
DTSTART;TZID=Europe/Athens:20250530T090000
DTEND;TZID=Europe/Athens:20250601T170000
DTSTAMP:20260425T195549
CREATED:20250501T183331Z
LAST-MODIFIED:20250522T100025Z
UID:35609-1748595600-1748797200@kastoria.pdm.gov.gr
SUMMARY:30 Μαΐου –1 Ιουνίου| 11ο Τουρνουά Παλαίμαχων Ποδοσφαιριστών!
DESCRIPTION:Οι Παλαίμαχοι Καστοριάς πρόκειται να πραγματοποιήσουν για ακόμη μια χρονιά το 11ο Τουρνουά Παλαίμαχων Ποδοσφαιριστών\, που θα πραγματοποιηθεί από τις 30 Μαΐου έως και την 1η Ιουνίου 2025 στην Καστοριά. \nΤη φετινή χρονιά αναμένονται περίπου 12 ομάδες παλαιμάχων από την Ελλάδα (Αθήνα\, Πειραιά\, Θεσσαλονίκη\, Κέρκυρα\, Σπάρτη)\, αλλά και το εξωτερικό (Μαρόκο\, Κύπρο\, Αλβανία\, Αγγλία). Οι αγώνες θα φιλοξενηθούν στο Δημοτικό Αθλητικό Κέντρο Καστοριάς και σε επιλεγμένα γήπεδα της περιοχής. \nΣκοπός της διοργάνωσης είναι η ανάδειξη του πολιτισμού που προάγει το ποδόσφαιρο στις μεγαλύτερες ηλικίες\, συνδυάζοντας πάντοτε την φιλανθρωπική χροιά. \nΠαράλληλα με τους αγώνες\, θα πραγματοποιηθούν πολιτιστικές δραστηριότητες όπως ξεναγήσεις στα αξιοθέατα της πόλης\, αναδεικνύοντας τη σύνδεση αθλητισμού και πολιτισμού\, αλλά και τη δυναμική της Καστοριάς ως πόλης-προορισμού διεθνών δράσεων. \nΗ Περιφερειακή Ενότητα Καστοριάς ενθαρρύνει δράσεις που ενισχύουν την άθληση\, τη διαπολιτισμική επαφή\, αλλά και την τουριστική προβολή του τόπου μας\, προσφέροντας προστιθέμενη αξία στην τοπική κοινωνία και την οικονομία. \n 
URL:https://kastoria.pdm.gov.gr/event/30-maiou-1-iouniou-11o-tournoua-palaimachon-podosfairiston/
LOCATION:Δ.Α.Κ. Καστοριάς\, Καστοριά\, Greece
ATTACH;FMTTYPE=image/jpeg:https://kastoria.pdm.gov.gr/wp-content/uploads/2025/05/afisa_palimaxoi-scaled.jpg
END:VEVENT
BEGIN:VEVENT
DTSTART;TZID=Europe/Athens:20250531T090000
DTEND;TZID=Europe/Athens:20250601T170000
DTSTAMP:20260425T195549
CREATED:20250501T190430Z
LAST-MODIFIED:20250507T164113Z
UID:35624-1748682000-1748797200@kastoria.pdm.gov.gr
SUMMARY:31 Μαΐου-01 Ιουνίου| Τουρνουά  Ποδοσφαίρου στο Μαυροχώρι!
DESCRIPTION:Ο Α.Σ. Γράμμος Μαυροχώριου διοργανώνει για ακόμη μια χρονιά Τουρνουά Ποδοσφαίρου που θα πραγματοποιηθεί στο Γήπεδο Μαυροχωρίου από τις 31 Μαΐου έως και την 1η Ιουνίου 2025. \nΣτο τουρνουά συμμετέχουν ακαδημίες από την Π.Ε. Καστοριάς\, καθώς και από άλλες περιοχές της Δυτικής Μακεδονίας όπως η Σιάτιστα και τα Γρεβενά\, προσφέροντας στα παιδιά την ευκαιρία να γνωρίσουν\, να παίξουν και να ανταλλάξουν εμπειρίες μέσα από το ποδόσφαιρο. \nΗ Περιφερειακή Ενότητα Καστοριάς στηρίζει τέτοιες αθλητικές δράσεις\, που ενισχύουν τη νεανική συμμετοχή στον αθλητισμό\, συμβάλλοντας στην κοινωνική ανάπτυξη\, την ευγενή άμιλλα\, την καλλιέργεια της συνεργασίας\, αλλά και τη σωματική και ψυχική υγεία των παιδιών και των νέων. \n Με επίκεντρο τη χαρά του παιχνιδιού\, οι μικροί αθλητές ενώνουν τις δυνάμεις τους\, καλλιεργούν τη φιλία και δημιουργούν όμορφες στιγμές αθλητικής συνεργασίας\, προωθώντας την αξία του αθλητισμού στην τοπική κοινωνία.
URL:https://kastoria.pdm.gov.gr/event/31-maiou-01-iouniou-tournoua-podosfairou-sto-mavrochori/
LOCATION:Γήπεδο Μαυροχωρίου\, Μαυροχώρι Καστοριάς\, Greece
ATTACH;FMTTYPE=image/jpeg:https://kastoria.pdm.gov.gr/wp-content/uploads/2025/05/tournoua_mavrohori.jpg
END:VEVENT
END:VCALENDAR