BEGIN:VCALENDAR
VERSION:2.0
PRODID:-//Περιφερειακή Ενότητα Καστοριάς - ECPv6.15.20//NONSGML v1.0//EN
CALSCALE:GREGORIAN
METHOD:PUBLISH
X-ORIGINAL-URL:https://kastoria.pdm.gov.gr
X-WR-CALDESC:Events for Περιφερειακή Ενότητα Καστοριάς
REFRESH-INTERVAL;VALUE=DURATION:PT1H
X-Robots-Tag:noindex
X-PUBLISHED-TTL:PT1H
BEGIN:VTIMEZONE
TZID:Europe/Athens
BEGIN:DAYLIGHT
TZOFFSETFROM:+0200
TZOFFSETTO:+0300
TZNAME:EEST
DTSTART:20240331T010000
END:DAYLIGHT
BEGIN:STANDARD
TZOFFSETFROM:+0300
TZOFFSETTO:+0200
TZNAME:EET
DTSTART:20241027T010000
END:STANDARD
BEGIN:DAYLIGHT
TZOFFSETFROM:+0200
TZOFFSETTO:+0300
TZNAME:EEST
DTSTART:20250330T010000
END:DAYLIGHT
BEGIN:STANDARD
TZOFFSETFROM:+0300
TZOFFSETTO:+0200
TZNAME:EET
DTSTART:20251026T010000
END:STANDARD
BEGIN:DAYLIGHT
TZOFFSETFROM:+0200
TZOFFSETTO:+0300
TZNAME:EEST
DTSTART:20260329T010000
END:DAYLIGHT
BEGIN:STANDARD
TZOFFSETFROM:+0300
TZOFFSETTO:+0200
TZNAME:EET
DTSTART:20261025T010000
END:STANDARD
END:VTIMEZONE
BEGIN:VEVENT
DTSTART;TZID=Europe/Athens:20250519T200000
DTEND;TZID=Europe/Athens:20250523T230000
DTSTAMP:20260425T210548
CREATED:20250501T161651Z
LAST-MODIFIED:20250507T165022Z
UID:35587-1747684800-1748041200@kastoria.pdm.gov.gr
SUMMARY:19-23 Μαΐου| Υπαίθριες Πολιτιστικές Εκδηλώσεις στην Πτελέα
DESCRIPTION:Ο Εκπολιτιστικός-Επιμορφωτικός Σύλλογος «Άγιος Νικόλαος» πραγματοποιεί  υπαίθριες πολιτιστικές εκδηλώσεις από τις 19 έως 23 Μαΐου στην Πτελέα Καστοριάς. \nΤο πρόγραμμα περιλαμβάνει δράσεις περιβαλλοντικής ευαισθητοποίησης\, λατρευτικές εκδηλώσεις\, μουσικές βραδιές με παραδοσιακή και λαϊκή μουσική\, καθώς και παρουσιάσεις χορευτικών συγκροτημάτων από την περιοχή μας και τη Δυτική Μακεδονία. Οι εκδηλώσεις θα κορυφωθούν με γλέντι για το κοινό. \nΗ Π.Ε. Καστοριάς ενισχύει σταθερά τις πολιτιστικές δράσεις που διατηρούν ζωντανή την παράδοση και ενώνουν τις τοπικές κοινωνίες.
URL:https://kastoria.pdm.gov.gr/event/19-23-maiou-ypaithries-politistikes-ekdiloseis-stin-ptelea/
LOCATION:Πτελέα Καστοριάς\, Πτελέα\, Greece
END:VEVENT
END:VCALENDAR