BEGIN:VCALENDAR
VERSION:2.0
PRODID:-//Περιφερειακή Ενότητα Καστοριάς - ECPv6.15.20//NONSGML v1.0//EN
CALSCALE:GREGORIAN
METHOD:PUBLISH
X-WR-CALNAME:Περιφερειακή Ενότητα Καστοριάς
X-ORIGINAL-URL:https://kastoria.pdm.gov.gr
X-WR-CALDESC:Events for Περιφερειακή Ενότητα Καστοριάς
REFRESH-INTERVAL;VALUE=DURATION:PT1H
X-Robots-Tag:noindex
X-PUBLISHED-TTL:PT1H
BEGIN:VTIMEZONE
TZID:Europe/Athens
BEGIN:DAYLIGHT
TZOFFSETFROM:+0200
TZOFFSETTO:+0300
TZNAME:EEST
DTSTART:20240331T010000
END:DAYLIGHT
BEGIN:STANDARD
TZOFFSETFROM:+0300
TZOFFSETTO:+0200
TZNAME:EET
DTSTART:20241027T010000
END:STANDARD
BEGIN:DAYLIGHT
TZOFFSETFROM:+0200
TZOFFSETTO:+0300
TZNAME:EEST
DTSTART:20250330T010000
END:DAYLIGHT
BEGIN:STANDARD
TZOFFSETFROM:+0300
TZOFFSETTO:+0200
TZNAME:EET
DTSTART:20251026T010000
END:STANDARD
BEGIN:DAYLIGHT
TZOFFSETFROM:+0200
TZOFFSETTO:+0300
TZNAME:EEST
DTSTART:20260329T010000
END:DAYLIGHT
BEGIN:STANDARD
TZOFFSETFROM:+0300
TZOFFSETTO:+0200
TZNAME:EET
DTSTART:20261025T010000
END:STANDARD
END:VTIMEZONE
BEGIN:VEVENT
DTSTART;TZID=Europe/Athens:20250510T190000
DTEND;TZID=Europe/Athens:20250522T130000
DTSTAMP:20260425T210503
CREATED:20250430T152550Z
LAST-MODIFIED:20250510T132018Z
UID:35518-1746903600-1747918800@kastoria.pdm.gov.gr
SUMMARY:10–22 Μαΐου| Εκδηλώσεις Μνήμης για τη Γενοκτονία των  Ελλήνων του Πόντου
DESCRIPTION:Η Περιφερειακή Ενότητα Καστοριάς συμμετέχει με σεβασμό και συνέπεια στις εκδηλώσεις μνήμης για τη Γενοκτονία των Ελλήνων του Πόντου\, συμβάλλοντας στην ιστορική διατήρηση και ανάδειξη ενός από τα πιο τραγικά κεφάλαια του ελληνισμού. Μέσα από τη στήριξη και τη συνδιοργάνωση εκδηλώσεων τιμής\, μνήμης και ενημέρωσης\, η Π.Ε. Καστοριάς επιδιώκει όχι μόνο να τιμήσει τα θύματα της γενοκτονίας\, αλλά και να καλλιεργήσει τη συλλογική μνήμη\, τη γνώση και τον σεβασμό στις ρίζες\, την ιστορία και την πολιτιστική ταυτότητα του Ποντιακού Ελληνισμού. \nΟι εκδηλώσεις υλοποιούνται σε συνεργασία με τα Ποντιακά Σωματεία της περιοχής και τους Δήμους Καστοριάς\, Άργους Ορεστικού και Νεστορίου. \nΤιμούμε – Δεν Ξεχνούμε – Μεταδίδουμε τη Μνήμη. \n  \n\nΔείτε το Αναλυτικό Πρόγραμμα:\n\n  \n\nΜια ιδιαίτερη εκδήλωση στις 18 Μαϊου στο Πολιτιστικό Κέντρο Άργους Ορεστικού
URL:https://kastoria.pdm.gov.gr/event/10-22-maiou-ekdiloseis-mnimis-gia-ti-genoktonia-ton-ellinon-tou-pontou/
LOCATION:Καστοριά\, Καστοριά\, Greece
ATTACH;FMTTYPE=image/jpeg:https://kastoria.pdm.gov.gr/wp-content/uploads/2025/04/afisa_genocide.jpeg
END:VEVENT
END:VCALENDAR